BEGIN:VCALENDAR
VERSION:2.0
PRODID:-//Forster Tuncurry Golf Club - ECPv6.15.20//NONSGML v1.0//EN
CALSCALE:GREGORIAN
METHOD:PUBLISH
X-ORIGINAL-URL:https://forstertuncurrygolf.com.au
X-WR-CALDESC:Events for Forster Tuncurry Golf Club
REFRESH-INTERVAL;VALUE=DURATION:PT1H
X-Robots-Tag:noindex
X-PUBLISHED-TTL:PT1H
BEGIN:VTIMEZONE
TZID:Australia/Sydney
BEGIN:STANDARD
TZOFFSETFROM:+1100
TZOFFSETTO:+1000
TZNAME:AEST
DTSTART:20240406T160000
END:STANDARD
BEGIN:DAYLIGHT
TZOFFSETFROM:+1000
TZOFFSETTO:+1100
TZNAME:AEDT
DTSTART:20241005T160000
END:DAYLIGHT
BEGIN:STANDARD
TZOFFSETFROM:+1100
TZOFFSETTO:+1000
TZNAME:AEST
DTSTART:20250405T160000
END:STANDARD
BEGIN:DAYLIGHT
TZOFFSETFROM:+1000
TZOFFSETTO:+1100
TZNAME:AEDT
DTSTART:20251004T160000
END:DAYLIGHT
BEGIN:STANDARD
TZOFFSETFROM:+1100
TZOFFSETTO:+1000
TZNAME:AEST
DTSTART:20260404T160000
END:STANDARD
BEGIN:DAYLIGHT
TZOFFSETFROM:+1000
TZOFFSETTO:+1100
TZNAME:AEDT
DTSTART:20261003T160000
END:DAYLIGHT
END:VTIMEZONE
BEGIN:VEVENT
DTSTART;TZID=Australia/Sydney:20251017T070000
DTEND;TZID=Australia/Sydney:20251017T150000
DTSTAMP:20260420T003822
CREATED:20250508T044942Z
LAST-MODIFIED:20250508T044942Z
UID:5494-1760684400-1760713200@forstertuncurrygolf.com.au
SUMMARY:Forster Mens Stableford
DESCRIPTION:
URL:https://forstertuncurrygolf.com.au/event/forster-mens-stableford-74/
END:VEVENT
BEGIN:VEVENT
DTSTART;TZID=Australia/Sydney:20251016T072400
DTEND;TZID=Australia/Sydney:20251016T152400
DTSTAMP:20260420T003822
CREATED:20250508T044942Z
LAST-MODIFIED:20250508T044942Z
UID:5493-1760599440-1760628240@forstertuncurrygolf.com.au
SUMMARY:GLEF Charity Day
DESCRIPTION:Bookings done through organisers
URL:https://forstertuncurrygolf.com.au/event/glef-charity-day/
END:VEVENT
BEGIN:VEVENT
DTSTART;TZID=Australia/Sydney:20251015T072400
DTEND;TZID=Australia/Sydney:20251015T152400
DTSTAMP:20260420T003822
CREATED:20250508T044942Z
LAST-MODIFIED:20250508T044942Z
UID:5492-1760513040-1760541840@forstertuncurrygolf.com.au
SUMMARY:Forster Mens Irish Fourball
DESCRIPTION:
URL:https://forstertuncurrygolf.com.au/event/forster-mens-irish-fourball/
END:VEVENT
BEGIN:VEVENT
DTSTART;TZID=Australia/Sydney:20251014T073000
DTEND;TZID=Australia/Sydney:20251014T153000
DTSTAMP:20260420T003822
CREATED:20250508T044927Z
LAST-MODIFIED:20250508T044927Z
UID:5491-1760427000-1760455800@forstertuncurrygolf.com.au
SUMMARY:Forster Womens Stroke. Monthly Medal + Putting
DESCRIPTION:October Medal. Gold Medal Play Off.
URL:https://forstertuncurrygolf.com.au/event/forster-womens-stroke-monthly-medal-putting-3/
END:VEVENT
BEGIN:VEVENT
DTSTART;TZID=Australia/Sydney:20251013T080000
DTEND;TZID=Australia/Sydney:20251013T160000
DTSTAMP:20260420T003822
CREATED:20250508T044927Z
LAST-MODIFIED:20250508T044927Z
UID:5490-1760342400-1760371200@forstertuncurrygolf.com.au
SUMMARY:Forster Mens Vets 9 Holes 8.30 SGS
DESCRIPTION:
URL:https://forstertuncurrygolf.com.au/event/forster-mens-vets-9-holes-8-30-sgs-6/
END:VEVENT
BEGIN:VEVENT
DTSTART;TZID=Australia/Sydney:20251012T070400
DTEND;TZID=Australia/Sydney:20251012T150400
DTSTAMP:20260420T003822
CREATED:20250508T044927Z
LAST-MODIFIED:20250508T044927Z
UID:5489-1760252640-1760281440@forstertuncurrygolf.com.au
SUMMARY:Forster Social Play
DESCRIPTION:
URL:https://forstertuncurrygolf.com.au/event/forster-social-play-33/
END:VEVENT
BEGIN:VEVENT
DTSTART;TZID=Australia/Sydney:20251011T072000
DTEND;TZID=Australia/Sydney:20251011T152000
DTSTAMP:20260420T003822
CREATED:20250508T044927Z
LAST-MODIFIED:20250508T044927Z
UID:5488-1760167200-1760196000@forstertuncurrygolf.com.au
SUMMARY:Forster Mens Monthly Medal Stroke
DESCRIPTION:
URL:https://forstertuncurrygolf.com.au/event/forster-mens-monthly-medal-stroke-5/
END:VEVENT
BEGIN:VEVENT
DTSTART;TZID=Australia/Sydney:20251010T070000
DTEND;TZID=Australia/Sydney:20251010T150000
DTSTAMP:20260420T003822
CREATED:20250508T044926Z
LAST-MODIFIED:20250508T044926Z
UID:5487-1760079600-1760108400@forstertuncurrygolf.com.au
SUMMARY:Forster Mens Stableford
DESCRIPTION:School Holidays Finish
URL:https://forstertuncurrygolf.com.au/event/forster-mens-stableford-73/
END:VEVENT
BEGIN:VEVENT
DTSTART;TZID=Australia/Sydney:20251009T072000
DTEND;TZID=Australia/Sydney:20251009T152000
DTSTAMP:20260420T003822
CREATED:20250508T044912Z
LAST-MODIFIED:20250508T044912Z
UID:5486-1759994400-1760023200@forstertuncurrygolf.com.au
SUMMARY:Forster Medley 2BBB Par
DESCRIPTION:Singles in Conjunction
URL:https://forstertuncurrygolf.com.au/event/forster-medley-2bbb-par/
END:VEVENT
BEGIN:VEVENT
DTSTART;TZID=Australia/Sydney:20251008T072400
DTEND;TZID=Australia/Sydney:20251008T152400
DTSTAMP:20260420T003822
CREATED:20250508T044912Z
LAST-MODIFIED:20250508T044912Z
UID:5485-1759908240-1759937040@forstertuncurrygolf.com.au
SUMMARY:Forster Mens Stableford
DESCRIPTION:
URL:https://forstertuncurrygolf.com.au/event/forster-mens-stableford-72/
END:VEVENT
BEGIN:VEVENT
DTSTART;TZID=Australia/Sydney:20251007T073000
DTEND;TZID=Australia/Sydney:20251007T153000
DTSTAMP:20260420T003822
CREATED:20250508T044912Z
LAST-MODIFIED:20250508T044912Z
UID:5484-1759822200-1759851000@forstertuncurrygolf.com.au
SUMMARY:Forster Womens Stableford
DESCRIPTION:3rd Round match Play Championships
URL:https://forstertuncurrygolf.com.au/event/forster-womens-stableford-12/
END:VEVENT
BEGIN:VEVENT
DTSTART;TZID=Australia/Sydney:20251006T083000
DTEND;TZID=Australia/Sydney:20251006T163000
DTSTAMP:20260420T003822
CREATED:20250508T044912Z
LAST-MODIFIED:20250508T044912Z
UID:5483-1759739400-1759768200@forstertuncurrygolf.com.au
SUMMARY:Forster Mens Vets 9 Holes 8.30 SGS
DESCRIPTION:Labour Day Public Holiday
URL:https://forstertuncurrygolf.com.au/event/forster-mens-vets-9-holes-8-30-sgs-5/
END:VEVENT
BEGIN:VEVENT
DTSTART;TZID=Australia/Sydney:20251005T070400
DTEND;TZID=Australia/Sydney:20251005T150400
DTSTAMP:20260420T003822
CREATED:20250508T044912Z
LAST-MODIFIED:20250508T044912Z
UID:5482-1759647840-1759676640@forstertuncurrygolf.com.au
SUMMARY:Forster Medley Stableford
DESCRIPTION:Grand Final Day – Daylight Savings
URL:https://forstertuncurrygolf.com.au/event/forster-medley-stableford-30/
END:VEVENT
BEGIN:VEVENT
DTSTART;TZID=Australia/Sydney:20251004T072000
DTEND;TZID=Australia/Sydney:20251004T152000
DTSTAMP:20260420T003822
CREATED:20250508T044857Z
LAST-MODIFIED:20250508T044857Z
UID:5481-1759562400-1759591200@forstertuncurrygolf.com.au
SUMMARY:Forster Mens Par
DESCRIPTION:
URL:https://forstertuncurrygolf.com.au/event/forster-mens-par-13/
END:VEVENT
BEGIN:VEVENT
DTSTART;TZID=Australia/Sydney:20251003T070000
DTEND;TZID=Australia/Sydney:20251003T150000
DTSTAMP:20260420T003822
CREATED:20250508T044857Z
LAST-MODIFIED:20250508T044857Z
UID:5480-1759474800-1759503600@forstertuncurrygolf.com.au
SUMMARY:Forster Mens Stableford
DESCRIPTION:
URL:https://forstertuncurrygolf.com.au/event/forster-mens-stableford-71/
END:VEVENT
BEGIN:VEVENT
DTSTART;TZID=Australia/Sydney:20251002T072000
DTEND;TZID=Australia/Sydney:20251002T152000
DTSTAMP:20260420T003822
CREATED:20250508T044857Z
LAST-MODIFIED:20250508T044857Z
UID:5479-1759389600-1759418400@forstertuncurrygolf.com.au
SUMMARY:Forster Medley Stableford
DESCRIPTION:
URL:https://forstertuncurrygolf.com.au/event/forster-medley-stableford-29/
END:VEVENT
BEGIN:VEVENT
DTSTART;TZID=Australia/Sydney:20251001T072400
DTEND;TZID=Australia/Sydney:20251001T152400
DTSTAMP:20260420T003822
CREATED:20250508T044857Z
LAST-MODIFIED:20250508T044857Z
UID:5478-1759303440-1759332240@forstertuncurrygolf.com.au
SUMMARY:Forster Mens Stableford
DESCRIPTION:
URL:https://forstertuncurrygolf.com.au/event/forster-mens-stableford-70/
END:VEVENT
BEGIN:VEVENT
DTSTART;TZID=Australia/Sydney:20250930T073400
DTEND;TZID=Australia/Sydney:20250930T153400
DTSTAMP:20260420T003822
CREATED:20250508T044856Z
LAST-MODIFIED:20250508T044856Z
UID:5477-1759217640-1759246440@forstertuncurrygolf.com.au
SUMMARY:Forster Womens Stableford
DESCRIPTION:1st Round match Play Championships
URL:https://forstertuncurrygolf.com.au/event/forster-womens-stableford-11/
END:VEVENT
BEGIN:VEVENT
DTSTART;TZID=Australia/Sydney:20250929T070400
DTEND;TZID=Australia/Sydney:20250929T150400
DTSTAMP:20260420T003822
CREATED:20250508T044842Z
LAST-MODIFIED:20250508T044842Z
UID:5476-1759129440-1759158240@forstertuncurrygolf.com.au
SUMMARY:Forster Social Play
DESCRIPTION:School Holidays begin
URL:https://forstertuncurrygolf.com.au/event/forster-social-play-32/
END:VEVENT
BEGIN:VEVENT
DTSTART;TZID=Australia/Sydney:20250928T070400
DTEND;TZID=Australia/Sydney:20250928T150400
DTSTAMP:20260420T003822
CREATED:20250508T044842Z
LAST-MODIFIED:20250508T044842Z
UID:5475-1759043040-1759071840@forstertuncurrygolf.com.au
SUMMARY:Forster Social Play
DESCRIPTION:
URL:https://forstertuncurrygolf.com.au/event/forster-social-play-31/
END:VEVENT
BEGIN:VEVENT
DTSTART;TZID=Australia/Sydney:20250927T072000
DTEND;TZID=Australia/Sydney:20250927T152000
DTSTAMP:20260420T003822
CREATED:20250508T044842Z
LAST-MODIFIED:20250508T044842Z
UID:5474-1758957600-1758986400@forstertuncurrygolf.com.au
SUMMARY:Forster Mens Stableford
DESCRIPTION:
URL:https://forstertuncurrygolf.com.au/event/forster-mens-stableford-69/
END:VEVENT
BEGIN:VEVENT
DTSTART;TZID=Australia/Sydney:20250926T070000
DTEND;TZID=Australia/Sydney:20250926T150000
DTSTAMP:20260420T003822
CREATED:20250508T044842Z
LAST-MODIFIED:20250508T044842Z
UID:5473-1758870000-1758898800@forstertuncurrygolf.com.au
SUMMARY:Forster Mens 2BBB Stableford Multiplier
DESCRIPTION:Singles in Conjunction
URL:https://forstertuncurrygolf.com.au/event/forster-mens-2bbb-stableford-multiplier/
END:VEVENT
BEGIN:VEVENT
DTSTART;TZID=Australia/Sydney:20250925T072000
DTEND;TZID=Australia/Sydney:20250925T152000
DTSTAMP:20260420T003822
CREATED:20250508T044842Z
LAST-MODIFIED:20250508T044842Z
UID:5472-1758784800-1758813600@forstertuncurrygolf.com.au
SUMMARY:Forster Medley Stableford
DESCRIPTION:
URL:https://forstertuncurrygolf.com.au/event/forster-medley-stableford-28/
END:VEVENT
BEGIN:VEVENT
DTSTART;TZID=Australia/Sydney:20250924T072400
DTEND;TZID=Australia/Sydney:20250924T152400
DTSTAMP:20260420T003822
CREATED:20250508T044827Z
LAST-MODIFIED:20250508T044827Z
UID:5471-1758698640-1758727440@forstertuncurrygolf.com.au
SUMMARY:Forster Mens Stableford
DESCRIPTION:
URL:https://forstertuncurrygolf.com.au/event/forster-mens-stableford-68/
END:VEVENT
BEGIN:VEVENT
DTSTART;TZID=Australia/Sydney:20250923T073400
DTEND;TZID=Australia/Sydney:20250923T153400
DTSTAMP:20260420T003822
CREATED:20250508T044827Z
LAST-MODIFIED:20250508T044827Z
UID:5470-1758612840-1758641640@forstertuncurrygolf.com.au
SUMMARY:Forster Womens Stroke.
DESCRIPTION:4th Round Club Championships
URL:https://forstertuncurrygolf.com.au/event/forster-womens-stroke/
END:VEVENT
BEGIN:VEVENT
DTSTART;TZID=Australia/Sydney:20250922T070400
DTEND;TZID=Australia/Sydney:20250922T150400
DTSTAMP:20260420T003822
CREATED:20250508T044827Z
LAST-MODIFIED:20250508T044827Z
UID:5469-1758524640-1758553440@forstertuncurrygolf.com.au
SUMMARY:FORSTER SOCIAL PLAY
DESCRIPTION:
URL:https://forstertuncurrygolf.com.au/event/forster-social-play-30/
END:VEVENT
BEGIN:VEVENT
DTSTART;TZID=Australia/Sydney:20250921T070400
DTEND;TZID=Australia/Sydney:20250921T150400
DTSTAMP:20260420T003822
CREATED:20250508T044827Z
LAST-MODIFIED:20250508T044827Z
UID:5468-1758438240-1758467040@forstertuncurrygolf.com.au
SUMMARY:Forster Social Play
DESCRIPTION:
URL:https://forstertuncurrygolf.com.au/event/forster-social-play-29/
END:VEVENT
BEGIN:VEVENT
DTSTART;TZID=Australia/Sydney:20250920T072000
DTEND;TZID=Australia/Sydney:20250920T152000
DTSTAMP:20260420T003822
CREATED:20250508T044827Z
LAST-MODIFIED:20250508T044827Z
UID:5467-1758352800-1758381600@forstertuncurrygolf.com.au
SUMMARY:Forster Mens Stableford
DESCRIPTION:
URL:https://forstertuncurrygolf.com.au/event/forster-mens-stableford-67/
END:VEVENT
BEGIN:VEVENT
DTSTART;TZID=Australia/Sydney:20250919T070000
DTEND;TZID=Australia/Sydney:20250919T150000
DTSTAMP:20260420T003822
CREATED:20250508T044813Z
LAST-MODIFIED:20250508T044813Z
UID:5466-1758265200-1758294000@forstertuncurrygolf.com.au
SUMMARY:Forster Mens Stroke
DESCRIPTION:
URL:https://forstertuncurrygolf.com.au/event/forster-mens-stroke-4/
END:VEVENT
BEGIN:VEVENT
DTSTART;TZID=Australia/Sydney:20250918T120000
DTEND;TZID=Australia/Sydney:20250918T200000
DTSTAMP:20260420T003822
CREATED:20250508T044812Z
LAST-MODIFIED:20250508T044812Z
UID:5465-1758196800-1758225600@forstertuncurrygolf.com.au
SUMMARY:Ronald McDonald Charity Day
DESCRIPTION:ALL BOOKINGS THROUGH THEM – CARTS INCLUDED
URL:https://forstertuncurrygolf.com.au/event/ronald-mcdonald-charity-day/
END:VEVENT
END:VCALENDAR