BEGIN:VCALENDAR
VERSION:2.0
PRODID:-//Forster Tuncurry Golf Club - ECPv6.15.20//NONSGML v1.0//EN
CALSCALE:GREGORIAN
METHOD:PUBLISH
X-ORIGINAL-URL:https://forstertuncurrygolf.com.au
X-WR-CALDESC:Events for Forster Tuncurry Golf Club
REFRESH-INTERVAL;VALUE=DURATION:PT1H
X-Robots-Tag:noindex
X-PUBLISHED-TTL:PT1H
BEGIN:VTIMEZONE
TZID:Australia/Sydney
BEGIN:STANDARD
TZOFFSETFROM:+1100
TZOFFSETTO:+1000
TZNAME:AEST
DTSTART:20210403T160000
END:STANDARD
BEGIN:DAYLIGHT
TZOFFSETFROM:+1000
TZOFFSETTO:+1100
TZNAME:AEDT
DTSTART:20211002T160000
END:DAYLIGHT
BEGIN:STANDARD
TZOFFSETFROM:+1100
TZOFFSETTO:+1000
TZNAME:AEST
DTSTART:20220402T160000
END:STANDARD
BEGIN:DAYLIGHT
TZOFFSETFROM:+1000
TZOFFSETTO:+1100
TZNAME:AEDT
DTSTART:20221001T160000
END:DAYLIGHT
BEGIN:STANDARD
TZOFFSETFROM:+1100
TZOFFSETTO:+1000
TZNAME:AEST
DTSTART:20230401T160000
END:STANDARD
BEGIN:DAYLIGHT
TZOFFSETFROM:+1000
TZOFFSETTO:+1100
TZNAME:AEDT
DTSTART:20230930T160000
END:DAYLIGHT
BEGIN:STANDARD
TZOFFSETFROM:+1100
TZOFFSETTO:+1000
TZNAME:AEST
DTSTART:20240406T160000
END:STANDARD
BEGIN:DAYLIGHT
TZOFFSETFROM:+1000
TZOFFSETTO:+1100
TZNAME:AEDT
DTSTART:20241005T160000
END:DAYLIGHT
BEGIN:STANDARD
TZOFFSETFROM:+1100
TZOFFSETTO:+1000
TZNAME:AEST
DTSTART:20250405T160000
END:STANDARD
BEGIN:DAYLIGHT
TZOFFSETFROM:+1000
TZOFFSETTO:+1100
TZNAME:AEDT
DTSTART:20251004T160000
END:DAYLIGHT
BEGIN:STANDARD
TZOFFSETFROM:+1100
TZOFFSETTO:+1000
TZNAME:AEST
DTSTART:20260404T160000
END:STANDARD
BEGIN:DAYLIGHT
TZOFFSETFROM:+1000
TZOFFSETTO:+1100
TZNAME:AEDT
DTSTART:20261003T160000
END:DAYLIGHT
END:VTIMEZONE
BEGIN:VTIMEZONE
TZID:UTC
BEGIN:STANDARD
TZOFFSETFROM:+0000
TZOFFSETTO:+0000
TZNAME:UTC
DTSTART:20210101T000000
END:STANDARD
END:VTIMEZONE
BEGIN:VEVENT
DTSTART;TZID=Australia/Sydney:20250115T072400
DTEND;TZID=Australia/Sydney:20250115T152400
DTSTAMP:20260421T155750
CREATED:20250508T043542Z
LAST-MODIFIED:20250508T043542Z
UID:5220-1736925840-1736954640@forstertuncurrygolf.com.au
SUMMARY:Forster Mens Stableford
DESCRIPTION:Men’s White Tees
URL:https://forstertuncurrygolf.com.au/event/forster-mens-stableford-5/
END:VEVENT
BEGIN:VEVENT
DTSTART;TZID=Australia/Sydney:20250114T073000
DTEND;TZID=Australia/Sydney:20250114T153000
DTSTAMP:20260421T155750
CREATED:20250508T043541Z
LAST-MODIFIED:20250508T043541Z
UID:5219-1736839800-1736868600@forstertuncurrygolf.com.au
SUMMARY:Forster Womens Stableford
DESCRIPTION:Women’s Red Tees
URL:https://forstertuncurrygolf.com.au/event/forster-womens-stableford/
END:VEVENT
BEGIN:VEVENT
DTSTART;TZID=Australia/Sydney:20250113T083000
DTEND;TZID=Australia/Sydney:20250113T163000
DTSTAMP:20260421T155750
CREATED:20250508T043541Z
LAST-MODIFIED:20250508T043541Z
UID:5218-1736757000-1736785800@forstertuncurrygolf.com.au
SUMMARY:Forster Mens Vets 9 Hole Stab
DESCRIPTION:8.30 Shotgun
URL:https://forstertuncurrygolf.com.au/event/forster-mens-vets-9-hole-stab-2/
END:VEVENT
BEGIN:VEVENT
DTSTART;TZID=Australia/Sydney:20250112T070400
DTEND;TZID=Australia/Sydney:20250112T150400
DTSTAMP:20260421T155750
CREATED:20250508T043541Z
LAST-MODIFIED:20250508T043541Z
UID:5217-1736665440-1736694240@forstertuncurrygolf.com.au
SUMMARY:Forster Medley 2BBB Stableford + Optional Singles
DESCRIPTION:Men’s White / Women’s Green Tees
URL:https://forstertuncurrygolf.com.au/event/forster-medley-2bbb-stableford-optional-singles-2/
END:VEVENT
BEGIN:VEVENT
DTSTART;TZID=Australia/Sydney:20250111T072000
DTEND;TZID=Australia/Sydney:20250111T152000
DTSTAMP:20260421T155750
CREATED:20250508T043541Z
LAST-MODIFIED:20250508T043541Z
UID:5216-1736580000-1736608800@forstertuncurrygolf.com.au
SUMMARY:Forster Mens Stableford
DESCRIPTION:Men’s White Tees
URL:https://forstertuncurrygolf.com.au/event/forster-mens-stableford-4/
END:VEVENT
BEGIN:VEVENT
DTSTART;TZID=Australia/Sydney:20250110T072000
DTEND;TZID=Australia/Sydney:20250110T152000
DTSTAMP:20260421T155750
CREATED:20250508T043526Z
LAST-MODIFIED:20250508T043526Z
UID:5210-1736493600-1736522400@forstertuncurrygolf.com.au
SUMMARY:Forster Mens Stableford
DESCRIPTION:Men’s White Tees
URL:https://forstertuncurrygolf.com.au/event/forster-mens-stableford-3/
END:VEVENT
BEGIN:VEVENT
DTSTART;TZID=Australia/Sydney:20250109T072000
DTEND;TZID=Australia/Sydney:20250109T152000
DTSTAMP:20260421T155750
CREATED:20250508T043526Z
LAST-MODIFIED:20250508T043526Z
UID:5209-1736407200-1736436000@forstertuncurrygolf.com.au
SUMMARY:Forster Medley Stableford
DESCRIPTION:Men’s White / Women’s Green Tees. No carts on course.
URL:https://forstertuncurrygolf.com.au/event/forster-medley-stableford/
END:VEVENT
BEGIN:VEVENT
DTSTART;TZID=Australia/Sydney:20250108T072400
DTEND;TZID=Australia/Sydney:20250108T152400
DTSTAMP:20260421T155750
CREATED:20250508T043526Z
LAST-MODIFIED:20250508T043526Z
UID:5208-1736321040-1736349840@forstertuncurrygolf.com.au
SUMMARY:Forster Mens Stableford - COURSE CLOSED
DESCRIPTION:Men’s White Tees
URL:https://forstertuncurrygolf.com.au/event/forster-mens-stableford-course-closed/
END:VEVENT
BEGIN:VEVENT
DTSTART;TZID=Australia/Sydney:20250107T070400
DTEND;TZID=Australia/Sydney:20250107T150400
DTSTAMP:20260421T155750
CREATED:20250508T043526Z
LAST-MODIFIED:20250508T043526Z
UID:5207-1736233440-1736262240@forstertuncurrygolf.com.au
SUMMARY:Forster Womens All Day Competition OTF
DESCRIPTION:Run by Pro-shop – Women’s Red Tees
URL:https://forstertuncurrygolf.com.au/event/forster-womens-all-day-competition-otf/
END:VEVENT
BEGIN:VEVENT
DTSTART;TZID=Australia/Sydney:20250106T083000
DTEND;TZID=Australia/Sydney:20250106T163000
DTSTAMP:20260421T155750
CREATED:20250508T043526Z
LAST-MODIFIED:20250508T043526Z
UID:5206-1736152200-1736181000@forstertuncurrygolf.com.au
SUMMARY:Forster Mens Vets 9 Hole Stab
DESCRIPTION:8.30 Shotgun
URL:https://forstertuncurrygolf.com.au/event/forster-mens-vets-9-hole-stab/
END:VEVENT
BEGIN:VEVENT
DTSTART;TZID=Australia/Sydney:20250105T070400
DTEND;TZID=Australia/Sydney:20250105T150400
DTSTAMP:20260421T155750
CREATED:20250508T043525Z
LAST-MODIFIED:20250508T043525Z
UID:5205-1736060640-1736089440@forstertuncurrygolf.com.au
SUMMARY:Forster Medley 2BBB Stableford + Optional Singles
DESCRIPTION:Men’s White / Women’s Green Tees
URL:https://forstertuncurrygolf.com.au/event/forster-medley-2bbb-stableford-optional-singles/
END:VEVENT
BEGIN:VEVENT
DTSTART;TZID=Australia/Sydney:20250104T072000
DTEND;TZID=Australia/Sydney:20250104T152000
DTSTAMP:20260421T155750
CREATED:20250508T043525Z
LAST-MODIFIED:20250508T043525Z
UID:5204-1735975200-1736004000@forstertuncurrygolf.com.au
SUMMARY:Forster Monthly Medal Stroke
DESCRIPTION:Men’s Blue Tees
URL:https://forstertuncurrygolf.com.au/event/forster-monthly-medal-stroke/
END:VEVENT
BEGIN:VEVENT
DTSTART;TZID=Australia/Sydney:20250103T072000
DTEND;TZID=Australia/Sydney:20250103T152000
DTSTAMP:20260421T155750
CREATED:20250508T043525Z
LAST-MODIFIED:20250508T043525Z
UID:5203-1735888800-1735917600@forstertuncurrygolf.com.au
SUMMARY:Forster Mens Stableford
DESCRIPTION:Men’s White Tees
URL:https://forstertuncurrygolf.com.au/event/forster-mens-stableford-2/
END:VEVENT
BEGIN:VEVENT
DTSTART;TZID=Australia/Sydney:20250102T070600
DTEND;TZID=Australia/Sydney:20250102T150600
DTSTAMP:20260421T155750
CREATED:20250508T043525Z
LAST-MODIFIED:20250508T043525Z
UID:5202-1735801560-1735830360@forstertuncurrygolf.com.au
SUMMARY:Forster Social Play
DESCRIPTION:
URL:https://forstertuncurrygolf.com.au/event/forster-social-play/
END:VEVENT
BEGIN:VEVENT
DTSTART;TZID=Australia/Sydney:20250101T072400
DTEND;TZID=Australia/Sydney:20250101T152400
DTSTAMP:20260421T155750
CREATED:20250508T043525Z
LAST-MODIFIED:20250508T043525Z
UID:5201-1735716240-1735745040@forstertuncurrygolf.com.au
SUMMARY:Forster Mens Stableford
DESCRIPTION:Men’s White Tees
URL:https://forstertuncurrygolf.com.au/event/forster-mens-stableford/
END:VEVENT
BEGIN:VEVENT
DTSTART;VALUE=DATE:20240301
DTEND;VALUE=DATE:20240302
DTSTAMP:20260421T155750
CREATED:20220123T153749Z
LAST-MODIFIED:20240130T033346Z
UID:1124-1709251200-1709337599@forstertuncurrygolf.com.au
SUMMARY:Men of League Charity Golf Day (Forster)
DESCRIPTION:
URL:https://forstertuncurrygolf.com.au/event/men-of-league-charity-golf-day-forster/
LOCATION:Forster Course
END:VEVENT
BEGIN:VEVENT
DTSTART;VALUE=DATE:20240211
DTEND;VALUE=DATE:20240212
DTSTAMP:20260421T155750
CREATED:20240130T033002Z
LAST-MODIFIED:20240130T033002Z
UID:3638-1707609600-1707695999@forstertuncurrygolf.com.au
SUMMARY:Fundraising Event - Dave's Cancer Treatment
DESCRIPTION:
URL:https://forstertuncurrygolf.com.au/event/fundraising-event-daves-cancer-treatment/
LOCATION:Forster Course
END:VEVENT
BEGIN:VEVENT
DTSTART;VALUE=DATE:20240108
DTEND;VALUE=DATE:20240109
DTSTAMP:20260421T155750
CREATED:20220905T032151Z
LAST-MODIFIED:20240104T033021Z
UID:2679-1704672000-1704758399@forstertuncurrygolf.com.au
SUMMARY:NSW Senior Amateur Championships (Men & Women)(Forster & Tuncurry)
DESCRIPTION:Monday 8 January Timesheet
URL:https://forstertuncurrygolf.com.au/event/nsw-senior-amateur-order-of-merit-men-womenforster-tuncurry/
END:VEVENT
BEGIN:VEVENT
DTSTART;VALUE=DATE:20240107
DTEND;VALUE=DATE:20240108
DTSTAMP:20260421T155750
CREATED:20220905T032435Z
LAST-MODIFIED:20240104T032914Z
UID:2682-1704585600-1704671999@forstertuncurrygolf.com.au
SUMMARY:Great Lakes Senior Amateur Order of Merit (Men & Women)(Tuncurry)
DESCRIPTION:Sunday 7th January Timesheet
URL:https://forstertuncurrygolf.com.au/event/great-lakes-senior-amateur-order-of-merit-men-womentuncurry/
LOCATION:Tuncurry Course
END:VEVENT
BEGIN:VEVENT
DTSTART;VALUE=DATE:20231130
DTEND;VALUE=DATE:20231201
DTSTAMP:20260421T155750
CREATED:20231128T214654Z
LAST-MODIFIED:20231128T215838Z
UID:3253-1701302400-1701388799@forstertuncurrygolf.com.au
SUMMARY:test event not actual Forster
DESCRIPTION:test event not actual Forster….. \nExample. All day golf\, mens Senior blah blah \n 
URL:https://forstertuncurrygolf.com.au/event/test-event-not-actual/
LOCATION:Forster Course
ATTACH;FMTTYPE=image/jpeg:https://forstertuncurrygolf.com.au/wp-content/uploads/2021/11/multiethnic-golf-players-with-golf-clubs-in-bags-walking-on-golf-course.jpg
END:VEVENT
BEGIN:VEVENT
DTSTART;VALUE=DATE:20230331
DTEND;VALUE=DATE:20230401
DTSTAMP:20260421T155750
CREATED:20220123T154133Z
LAST-MODIFIED:20221229T035957Z
UID:1130-1680220800-1680307199@forstertuncurrygolf.com.au
SUMMARY:Hospitality Cup Charity Day (Forster)
DESCRIPTION:
URL:https://forstertuncurrygolf.com.au/event/hospitality-cup-charity-day-forster/
LOCATION:Forster Course
END:VEVENT
BEGIN:VEVENT
DTSTART;VALUE=DATE:20230323
DTEND;VALUE=DATE:20230324
DTSTAMP:20260421T155750
CREATED:20220905T041138Z
LAST-MODIFIED:20220905T041545Z
UID:2696-1679529600-1679615999@forstertuncurrygolf.com.au
SUMMARY:Great Lakes Education Fund Charity Day (Forster)
DESCRIPTION:
URL:https://forstertuncurrygolf.com.au/event/great-lakes-education-fund-charity-day-forster/
LOCATION:Forster Course
END:VEVENT
BEGIN:VEVENT
DTSTART;VALUE=DATE:20230323
DTEND;VALUE=DATE:20230327
DTSTAMP:20260421T155750
CREATED:20220123T153927Z
LAST-MODIFIED:20220905T042128Z
UID:1126-1679529600-1679875199@forstertuncurrygolf.com.au
SUMMARY:NSW Women's Open (Tuncurry)
DESCRIPTION:
URL:https://forstertuncurrygolf.com.au/event/nsw-seniors-open-both-courses/
END:VEVENT
BEGIN:VEVENT
DTSTART;VALUE=DATE:20230302
DTEND;VALUE=DATE:20230303
DTSTAMP:20260421T155750
CREATED:20220123T154039Z
LAST-MODIFIED:20220905T033332Z
UID:1128-1677715200-1677801599@forstertuncurrygolf.com.au
SUMMARY:Westpac Helicopter Rescue Charity Golf Day (Forster)
DESCRIPTION:
URL:https://forstertuncurrygolf.com.au/event/westpac-helicopter-rescue-charity-golf-day-forster/
LOCATION:Forster Course
END:VEVENT
BEGIN:VEVENT
DTSTART;VALUE=DATE:20230210
DTEND;VALUE=DATE:20230211
DTSTAMP:20260421T155750
CREATED:20220123T154524Z
LAST-MODIFIED:20221229T040409Z
UID:1146-1675987200-1676073599@forstertuncurrygolf.com.au
SUMMARY:Ronald McDonald Charity Day (Forster)
DESCRIPTION:For more information visit www.rmhcnnsw.org.au/tjl-golf \nRonald McDonald Family Retreat Forster \nTJL Business Advisors & Accountants
URL:https://forstertuncurrygolf.com.au/event/ronald-mcdonald-charity-day-forster/
LOCATION:Forster Course
ORGANIZER;CN="Amy Osborne":MAILTO:Amy.osborne@rmhc.org.au
END:VEVENT
BEGIN:VEVENT
DTSTART;VALUE=DATE:20230108
DTEND;VALUE=DATE:20230109
DTSTAMP:20260421T155750
CREATED:20220123T153655Z
LAST-MODIFIED:20220905T032329Z
UID:1117-1673136000-1673222399@forstertuncurrygolf.com.au
SUMMARY:Great Lakes Amateur Open (Men & Women)(Tuncurry)
DESCRIPTION:
URL:https://forstertuncurrygolf.com.au/event/great-lakes-amateur-open-tuncurry/
LOCATION:Tuncurry Course
END:VEVENT
BEGIN:VEVENT
DTSTART;VALUE=DATE:20221107
DTEND;VALUE=DATE:20221108
DTSTAMP:20260421T155750
CREATED:20220905T032046Z
LAST-MODIFIED:20220905T032046Z
UID:2677-1667779200-1667865599@forstertuncurrygolf.com.au
SUMMARY:NSW Senior Amateur Foursome Medal (Men & Women)(Tuncurry)
DESCRIPTION:
URL:https://forstertuncurrygolf.com.au/event/nsw-senior-amateur-foursome-medal-men-womentuncurry/
LOCATION:Tuncurry Course
END:VEVENT
BEGIN:VEVENT
DTSTART;VALUE=DATE:20221106
DTEND;VALUE=DATE:20221107
DTSTAMP:20260421T155750
CREATED:20220905T031927Z
LAST-MODIFIED:20220905T031946Z
UID:2675-1667692800-1667779199@forstertuncurrygolf.com.au
SUMMARY:NSW 2 Person Ambrose Regional Final (Tuncurry)
DESCRIPTION:
URL:https://forstertuncurrygolf.com.au/event/nsw-2-person-ambrose-regional-final-tuncurry/
LOCATION:Tuncurry Course
END:VEVENT
BEGIN:VEVENT
DTSTART;VALUE=DATE:20221009
DTEND;VALUE=DATE:20221010
DTSTAMP:20260421T155750
CREATED:20220123T154459Z
LAST-MODIFIED:20220905T031618Z
UID:1144-1665273600-1665359999@forstertuncurrygolf.com.au
SUMMARY:Forster Junior Tournament (Forster)
DESCRIPTION:
URL:https://forstertuncurrygolf.com.au/event/forster-junior-tournament-tuncurry/
LOCATION:Forster Course
END:VEVENT
BEGIN:VEVENT
DTSTART;VALUE=DATE:20220923
DTEND;VALUE=DATE:20220924
DTSTAMP:20260421T155750
CREATED:20220905T031503Z
LAST-MODIFIED:20220905T031503Z
UID:2670-1663891200-1663977599@forstertuncurrygolf.com.au
SUMMARY:Ladies PGA Scramble (Tuncurry)
DESCRIPTION:
URL:https://forstertuncurrygolf.com.au/event/ladies-pga-scramble-tuncurry/
LOCATION:Tuncurry Course
END:VEVENT
END:VCALENDAR