BEGIN:VCALENDAR
VERSION:2.0
PRODID:-//Forster Tuncurry Golf Club - ECPv6.15.20//NONSGML v1.0//EN
CALSCALE:GREGORIAN
METHOD:PUBLISH
X-ORIGINAL-URL:https://forstertuncurrygolf.com.au
X-WR-CALDESC:Events for Forster Tuncurry Golf Club
REFRESH-INTERVAL;VALUE=DURATION:PT1H
X-Robots-Tag:noindex
X-PUBLISHED-TTL:PT1H
BEGIN:VTIMEZONE
TZID:Australia/Sydney
BEGIN:STANDARD
TZOFFSETFROM:+1100
TZOFFSETTO:+1000
TZNAME:AEST
DTSTART:20240406T160000
END:STANDARD
BEGIN:DAYLIGHT
TZOFFSETFROM:+1000
TZOFFSETTO:+1100
TZNAME:AEDT
DTSTART:20241005T160000
END:DAYLIGHT
BEGIN:STANDARD
TZOFFSETFROM:+1100
TZOFFSETTO:+1000
TZNAME:AEST
DTSTART:20250405T160000
END:STANDARD
BEGIN:DAYLIGHT
TZOFFSETFROM:+1000
TZOFFSETTO:+1100
TZNAME:AEDT
DTSTART:20251004T160000
END:DAYLIGHT
BEGIN:STANDARD
TZOFFSETFROM:+1100
TZOFFSETTO:+1000
TZNAME:AEST
DTSTART:20260404T160000
END:STANDARD
BEGIN:DAYLIGHT
TZOFFSETFROM:+1000
TZOFFSETTO:+1100
TZNAME:AEDT
DTSTART:20261003T160000
END:DAYLIGHT
END:VTIMEZONE
BEGIN:VEVENT
DTSTART;TZID=Australia/Sydney:20250316T070400
DTEND;TZID=Australia/Sydney:20250316T150400
DTSTAMP:20260421T072517
CREATED:20250508T043856Z
LAST-MODIFIED:20250508T043856Z
UID:5280-1742108640-1742137440@forstertuncurrygolf.com.au
SUMMARY:Forster 2BBB Stableford + Optional Single Stableford
DESCRIPTION:Men’s White Tees/ Women’s Green Tees
URL:https://forstertuncurrygolf.com.au/event/forster-2bbb-stableford-optional-single-stableford/
END:VEVENT
BEGIN:VEVENT
DTSTART;TZID=Australia/Sydney:20250315T072000
DTEND;TZID=Australia/Sydney:20250315T152000
DTSTAMP:20260421T072517
CREATED:20250508T043842Z
LAST-MODIFIED:20250508T043842Z
UID:5279-1742023200-1742052000@forstertuncurrygolf.com.au
SUMMARY:Forster Mens Stableford
DESCRIPTION:Men’s Blue Tees
URL:https://forstertuncurrygolf.com.au/event/forster-mens-stableford-20/
END:VEVENT
BEGIN:VEVENT
DTSTART;TZID=Australia/Sydney:20250314T072000
DTEND;TZID=Australia/Sydney:20250314T152000
DTSTAMP:20260421T072517
CREATED:20250508T043841Z
LAST-MODIFIED:20250508T043841Z
UID:5278-1741936800-1741965600@forstertuncurrygolf.com.au
SUMMARY:Forster Mens Stableford
DESCRIPTION:Men’s White Tees
URL:https://forstertuncurrygolf.com.au/event/forster-mens-stableford-19/
END:VEVENT
BEGIN:VEVENT
DTSTART;TZID=Australia/Sydney:20250313T072000
DTEND;TZID=Australia/Sydney:20250313T152000
DTSTAMP:20260421T072517
CREATED:20250508T043841Z
LAST-MODIFIED:20250508T043841Z
UID:5277-1741850400-1741879200@forstertuncurrygolf.com.au
SUMMARY:Forster Medley Stableford
DESCRIPTION:Men’s White Tees/ Women’s Green Tees
URL:https://forstertuncurrygolf.com.au/event/forster-medley-stableford-8/
END:VEVENT
BEGIN:VEVENT
DTSTART;TZID=Australia/Sydney:20250311T073000
DTEND;TZID=Australia/Sydney:20250311T153000
DTSTAMP:20260421T072517
CREATED:20250508T043841Z
LAST-MODIFIED:20250508T043841Z
UID:5276-1741678200-1741707000@forstertuncurrygolf.com.au
SUMMARY:Forster Womens Stroke. Club Medal + Putting
DESCRIPTION:March Medal. 1st Round Golf NSW Medal – Women’s Red Tees
URL:https://forstertuncurrygolf.com.au/event/forster-womens-stroke-club-medal-putting/
END:VEVENT
BEGIN:VEVENT
DTSTART;TZID=Australia/Sydney:20250310T070400
DTEND;TZID=Australia/Sydney:20250310T150400
DTSTAMP:20260421T072517
CREATED:20250508T043827Z
LAST-MODIFIED:20250508T043827Z
UID:5275-1741590240-1741619040@forstertuncurrygolf.com.au
SUMMARY:Forster Social Play
DESCRIPTION:
URL:https://forstertuncurrygolf.com.au/event/forster-social-play-8/
END:VEVENT
BEGIN:VEVENT
DTSTART;TZID=Australia/Sydney:20250309T070400
DTEND;TZID=Australia/Sydney:20250309T150400
DTSTAMP:20260421T072517
CREATED:20250508T043826Z
LAST-MODIFIED:20250508T043826Z
UID:5274-1741503840-1741532640@forstertuncurrygolf.com.au
SUMMARY:Forster Medley 4BBB stableford + optional singles
DESCRIPTION:Men’s White Tees/ Women’s Green Tees
URL:https://forstertuncurrygolf.com.au/event/forster-medley-4bbb-stableford-optional-singles/
END:VEVENT
BEGIN:VEVENT
DTSTART;TZID=Australia/Sydney:20250308T072000
DTEND;TZID=Australia/Sydney:20250308T152000
DTSTAMP:20260421T072517
CREATED:20250508T043826Z
LAST-MODIFIED:20250508T043826Z
UID:5273-1741418400-1741447200@forstertuncurrygolf.com.au
SUMMARY:Forster Mens Par
DESCRIPTION:Men’s White Tees
URL:https://forstertuncurrygolf.com.au/event/forster-mens-par-3/
END:VEVENT
BEGIN:VEVENT
DTSTART;TZID=Australia/Sydney:20250307T072000
DTEND;TZID=Australia/Sydney:20250307T152000
DTSTAMP:20260421T072517
CREATED:20250508T043826Z
LAST-MODIFIED:20250508T043826Z
UID:5272-1741332000-1741360800@forstertuncurrygolf.com.au
SUMMARY:Forster Mens Stableford
DESCRIPTION:Men’s White Tees
URL:https://forstertuncurrygolf.com.au/event/forster-mens-stableford-18/
END:VEVENT
BEGIN:VEVENT
DTSTART;TZID=Australia/Sydney:20250306T072000
DTEND;TZID=Australia/Sydney:20250306T152000
DTSTAMP:20260421T072517
CREATED:20250508T043826Z
LAST-MODIFIED:20250508T043826Z
UID:5271-1741245600-1741274400@forstertuncurrygolf.com.au
SUMMARY:Forster Medley Par
DESCRIPTION:Men’s White Tees/ Women’s Green Tees
URL:https://forstertuncurrygolf.com.au/event/forster-medley-par/
END:VEVENT
BEGIN:VEVENT
DTSTART;TZID=Australia/Sydney:20250305T072400
DTEND;TZID=Australia/Sydney:20250305T152400
DTSTAMP:20260421T072517
CREATED:20250508T043811Z
LAST-MODIFIED:20250508T043811Z
UID:5270-1741159440-1741188240@forstertuncurrygolf.com.au
SUMMARY:Forster Mens Stableford
DESCRIPTION:Men’s White Tees
URL:https://forstertuncurrygolf.com.au/event/forster-mens-stableford-17/
END:VEVENT
BEGIN:VEVENT
DTSTART;TZID=Australia/Sydney:20250304T120000
DTEND;TZID=Australia/Sydney:20250304T200000
DTSTAMP:20260421T072517
CREATED:20250508T043811Z
LAST-MODIFIED:20250508T043811Z
UID:5269-1741089600-1741118400@forstertuncurrygolf.com.au
SUMMARY:COURSE CLOSED
DESCRIPTION:GREEN RENOVATIONS
URL:https://forstertuncurrygolf.com.au/event/course-closed-2/
END:VEVENT
BEGIN:VEVENT
DTSTART;TZID=Australia/Sydney:20250303T120000
DTEND;TZID=Australia/Sydney:20250303T200000
DTSTAMP:20260421T072517
CREATED:20250508T043811Z
LAST-MODIFIED:20250508T043811Z
UID:5268-1741003200-1741032000@forstertuncurrygolf.com.au
SUMMARY:COURSE CLOSED
DESCRIPTION:GREEN RENOVATIONS
URL:https://forstertuncurrygolf.com.au/event/course-closed/
END:VEVENT
BEGIN:VEVENT
DTSTART;TZID=Australia/Sydney:20250302T070400
DTEND;TZID=Australia/Sydney:20250302T150400
DTSTAMP:20260421T072517
CREATED:20250508T043811Z
LAST-MODIFIED:20250508T043811Z
UID:5267-1740899040-1740927840@forstertuncurrygolf.com.au
SUMMARY:Forster Social Play
DESCRIPTION:
URL:https://forstertuncurrygolf.com.au/event/forster-social-play-7/
END:VEVENT
BEGIN:VEVENT
DTSTART;TZID=Australia/Sydney:20250301T072000
DTEND;TZID=Australia/Sydney:20250301T152000
DTSTAMP:20260421T072517
CREATED:20250508T043811Z
LAST-MODIFIED:20250508T043811Z
UID:5266-1740813600-1740842400@forstertuncurrygolf.com.au
SUMMARY:Forster Mens Monthy Medal
DESCRIPTION:Men’s Blue Tees
URL:https://forstertuncurrygolf.com.au/event/forster-mens-monthy-medal/
END:VEVENT
BEGIN:VEVENT
DTSTART;TZID=Australia/Sydney:20250228T070400
DTEND;TZID=Australia/Sydney:20250228T150400
DTSTAMP:20260421T072517
CREATED:20250508T043757Z
LAST-MODIFIED:20250508T043757Z
UID:5265-1740726240-1740755040@forstertuncurrygolf.com.au
SUMMARY:Family of League Day Charity Day
DESCRIPTION:All bookings including carts through Admin
URL:https://forstertuncurrygolf.com.au/event/family-of-league-day-charity-day/
END:VEVENT
BEGIN:VEVENT
DTSTART;TZID=Australia/Sydney:20250227T072000
DTEND;TZID=Australia/Sydney:20250227T152000
DTSTAMP:20260421T072517
CREATED:20250508T043757Z
LAST-MODIFIED:20250508T043757Z
UID:5264-1740640800-1740669600@forstertuncurrygolf.com.au
SUMMARY:Forster Medley Single Stableford
DESCRIPTION:Men’s White Tees/Women’s Green Tees
URL:https://forstertuncurrygolf.com.au/event/forster-medley-single-stableford/
END:VEVENT
BEGIN:VEVENT
DTSTART;TZID=Australia/Sydney:20250226T072400
DTEND;TZID=Australia/Sydney:20250226T152400
DTSTAMP:20260421T072517
CREATED:20250508T043756Z
LAST-MODIFIED:20250508T043756Z
UID:5263-1740554640-1740583440@forstertuncurrygolf.com.au
SUMMARY:Forster Mens Stableford
DESCRIPTION:Men’s White Tees
URL:https://forstertuncurrygolf.com.au/event/forster-mens-stableford-16/
END:VEVENT
BEGIN:VEVENT
DTSTART;TZID=Australia/Sydney:20250225T073000
DTEND;TZID=Australia/Sydney:20250225T153000
DTSTAMP:20260421T072517
CREATED:20250508T043756Z
LAST-MODIFIED:20250508T043756Z
UID:5262-1740468600-1740497400@forstertuncurrygolf.com.au
SUMMARY:Forster Womens Stableford - Women's Red Tees
DESCRIPTION:2nd Rnd Sandy B Matchplay KO
URL:https://forstertuncurrygolf.com.au/event/forster-womens-stableford-womens-red-tees-2/
END:VEVENT
BEGIN:VEVENT
DTSTART;TZID=Australia/Sydney:20250224T070400
DTEND;TZID=Australia/Sydney:20250224T150400
DTSTAMP:20260421T072517
CREATED:20250508T043756Z
LAST-MODIFIED:20250508T043756Z
UID:5261-1740380640-1740409440@forstertuncurrygolf.com.au
SUMMARY:Forster Social Play
DESCRIPTION:
URL:https://forstertuncurrygolf.com.au/event/forster-social-play-6/
END:VEVENT
BEGIN:VEVENT
DTSTART;TZID=Australia/Sydney:20250223T070400
DTEND;TZID=Australia/Sydney:20250223T150400
DTSTAMP:20260421T072517
CREATED:20250508T043741Z
LAST-MODIFIED:20250508T043741Z
UID:5260-1740294240-1740323040@forstertuncurrygolf.com.au
SUMMARY:Forster Medley 2BBB Stableford + Optional Singles (JACKPOT)
DESCRIPTION:Men’s White Tees/Women’s Green Tees
URL:https://forstertuncurrygolf.com.au/event/forster-medley-2bbb-stableford-optional-singles-jackpot/
END:VEVENT
BEGIN:VEVENT
DTSTART;TZID=Australia/Sydney:20250222T072000
DTEND;TZID=Australia/Sydney:20250222T152000
DTSTAMP:20260421T072517
CREATED:20250508T043741Z
LAST-MODIFIED:20250508T043741Z
UID:5259-1740208800-1740237600@forstertuncurrygolf.com.au
SUMMARY:Forster Mens Stableford
DESCRIPTION:Men’s White Tees
URL:https://forstertuncurrygolf.com.au/event/forster-mens-stableford-15/
END:VEVENT
BEGIN:VEVENT
DTSTART;TZID=Australia/Sydney:20250221T072000
DTEND;TZID=Australia/Sydney:20250221T152000
DTSTAMP:20260421T072517
CREATED:20250508T043741Z
LAST-MODIFIED:20250508T043741Z
UID:5258-1740122400-1740151200@forstertuncurrygolf.com.au
SUMMARY:Forster Men's Stroke
DESCRIPTION:Men’s White Tees
URL:https://forstertuncurrygolf.com.au/event/forster-mens-stroke/
END:VEVENT
BEGIN:VEVENT
DTSTART;TZID=Australia/Sydney:20250220T072000
DTEND;TZID=Australia/Sydney:20250220T152000
DTSTAMP:20260421T072517
CREATED:20250508T043741Z
LAST-MODIFIED:20250508T043741Z
UID:5257-1740036000-1740064800@forstertuncurrygolf.com.au
SUMMARY:Forster Medley Stableford
DESCRIPTION:Men’s White Tees/Women’s Green Tees
URL:https://forstertuncurrygolf.com.au/event/forster-medley-stableford-7/
END:VEVENT
BEGIN:VEVENT
DTSTART;TZID=Australia/Sydney:20250219T072400
DTEND;TZID=Australia/Sydney:20250219T152400
DTSTAMP:20260421T072517
CREATED:20250508T043741Z
LAST-MODIFIED:20250508T043741Z
UID:5256-1739949840-1739978640@forstertuncurrygolf.com.au
SUMMARY:Forster Mens Par
DESCRIPTION:Men’s White Tees
URL:https://forstertuncurrygolf.com.au/event/forster-mens-par-2/
END:VEVENT
BEGIN:VEVENT
DTSTART;TZID=Australia/Sydney:20250218T073000
DTEND;TZID=Australia/Sydney:20250218T153000
DTSTAMP:20260421T072517
CREATED:20250508T043727Z
LAST-MODIFIED:20250508T043727Z
UID:5255-1739863800-1739892600@forstertuncurrygolf.com.au
SUMMARY:Forster Womens Stroke. Medal + Putting
DESCRIPTION:February Medal – Women’s Red Tees
URL:https://forstertuncurrygolf.com.au/event/forster-womens-stroke-medal-putting/
END:VEVENT
BEGIN:VEVENT
DTSTART;TZID=Australia/Sydney:20250217T083000
DTEND;TZID=Australia/Sydney:20250217T163000
DTSTAMP:20260421T072517
CREATED:20250508T043727Z
LAST-MODIFIED:20250508T043727Z
UID:5254-1739781000-1739809800@forstertuncurrygolf.com.au
SUMMARY:Forster Mens Vets 9 Hole Stab
DESCRIPTION:8.30 shotgun
URL:https://forstertuncurrygolf.com.au/event/forster-mens-vets-9-hole-stab-4/
END:VEVENT
BEGIN:VEVENT
DTSTART;TZID=Australia/Sydney:20250216T070400
DTEND;TZID=Australia/Sydney:20250216T150400
DTSTAMP:20260421T072517
CREATED:20250508T043726Z
LAST-MODIFIED:20250508T043726Z
UID:5253-1739689440-1739718240@forstertuncurrygolf.com.au
SUMMARY:Forster Social Play
DESCRIPTION:
URL:https://forstertuncurrygolf.com.au/event/forster-social-play-5/
END:VEVENT
BEGIN:VEVENT
DTSTART;TZID=Australia/Sydney:20250215T072000
DTEND;TZID=Australia/Sydney:20250215T152000
DTSTAMP:20260421T072517
CREATED:20250508T043726Z
LAST-MODIFIED:20250508T043726Z
UID:5252-1739604000-1739632800@forstertuncurrygolf.com.au
SUMMARY:Forster Mens 4 Person Ambrose
DESCRIPTION:Men’s White Tees
URL:https://forstertuncurrygolf.com.au/event/forster-mens-4-person-ambrose/
END:VEVENT
BEGIN:VEVENT
DTSTART;TZID=Australia/Sydney:20250214T072000
DTEND;TZID=Australia/Sydney:20250214T152000
DTSTAMP:20260421T072517
CREATED:20250508T043726Z
LAST-MODIFIED:20250508T043726Z
UID:5251-1739517600-1739546400@forstertuncurrygolf.com.au
SUMMARY:Forster Mens Stableford
DESCRIPTION:Men’s White Tees
URL:https://forstertuncurrygolf.com.au/event/forster-mens-stableford-14/
END:VEVENT
END:VCALENDAR