BEGIN:VCALENDAR
VERSION:2.0
PRODID:-//Forster Tuncurry Golf Club - ECPv6.15.20//NONSGML v1.0//EN
CALSCALE:GREGORIAN
METHOD:PUBLISH
X-WR-CALNAME:Forster Tuncurry Golf Club
X-ORIGINAL-URL:https://forstertuncurrygolf.com.au
X-WR-CALDESC:Events for Forster Tuncurry Golf Club
REFRESH-INTERVAL;VALUE=DURATION:PT1H
X-Robots-Tag:noindex
X-PUBLISHED-TTL:PT1H
BEGIN:VTIMEZONE
TZID:Australia/Sydney
BEGIN:STANDARD
TZOFFSETFROM:+1100
TZOFFSETTO:+1000
TZNAME:AEST
DTSTART:20240406T160000
END:STANDARD
BEGIN:DAYLIGHT
TZOFFSETFROM:+1000
TZOFFSETTO:+1100
TZNAME:AEDT
DTSTART:20241005T160000
END:DAYLIGHT
BEGIN:STANDARD
TZOFFSETFROM:+1100
TZOFFSETTO:+1000
TZNAME:AEST
DTSTART:20250405T160000
END:STANDARD
BEGIN:DAYLIGHT
TZOFFSETFROM:+1000
TZOFFSETTO:+1100
TZNAME:AEDT
DTSTART:20251004T160000
END:DAYLIGHT
BEGIN:STANDARD
TZOFFSETFROM:+1100
TZOFFSETTO:+1000
TZNAME:AEST
DTSTART:20260404T160000
END:STANDARD
BEGIN:DAYLIGHT
TZOFFSETFROM:+1000
TZOFFSETTO:+1100
TZNAME:AEDT
DTSTART:20261003T160000
END:DAYLIGHT
END:VTIMEZONE
BEGIN:VEVENT
DTSTART;TZID=Australia/Sydney:20250411T072000
DTEND;TZID=Australia/Sydney:20250411T152000
DTSTAMP:20260421T034525
CREATED:20250508T044011Z
LAST-MODIFIED:20250508T044011Z
UID:5304-1744356000-1744384800@forstertuncurrygolf.com.au
SUMMARY:Forster Mens Stableford
DESCRIPTION:White Tees
URL:https://forstertuncurrygolf.com.au/event/forster-mens-stableford-25/
END:VEVENT
BEGIN:VEVENT
DTSTART;TZID=Australia/Sydney:20250410T072000
DTEND;TZID=Australia/Sydney:20250410T152000
DTSTAMP:20260421T034525
CREATED:20250508T044011Z
LAST-MODIFIED:20250508T044011Z
UID:5303-1744269600-1744298400@forstertuncurrygolf.com.au
SUMMARY:Forster Medley Stableford
DESCRIPTION:Men’s White Tees/Women’s Green Tees
URL:https://forstertuncurrygolf.com.au/event/forster-medley-stableford-10/
END:VEVENT
BEGIN:VEVENT
DTSTART;TZID=Australia/Sydney:20250409T072400
DTEND;TZID=Australia/Sydney:20250409T152400
DTSTAMP:20260421T034525
CREATED:20250508T043957Z
LAST-MODIFIED:20250508T043957Z
UID:5302-1744183440-1744212240@forstertuncurrygolf.com.au
SUMMARY:Forster Mens American Foursomes
DESCRIPTION:White Tees
URL:https://forstertuncurrygolf.com.au/event/forster-mens-american-foursomes/
END:VEVENT
BEGIN:VEVENT
DTSTART;TZID=Australia/Sydney:20250408T083000
DTEND;TZID=Australia/Sydney:20250408T163000
DTSTAMP:20260421T034525
CREATED:20250508T043957Z
LAST-MODIFIED:20250508T043957Z
UID:5301-1744101000-1744129800@forstertuncurrygolf.com.au
SUMMARY:Forster Womens American Foursomes
DESCRIPTION:8.30am Shot Gun Start – Including NSW Hickory Championships
URL:https://forstertuncurrygolf.com.au/event/forster-womens-american-foursomes/
END:VEVENT
BEGIN:VEVENT
DTSTART;TZID=Australia/Sydney:20250407T083000
DTEND;TZID=Australia/Sydney:20250407T163000
DTSTAMP:20260421T034525
CREATED:20250508T043956Z
LAST-MODIFIED:20250508T043956Z
UID:5300-1744014600-1744043400@forstertuncurrygolf.com.au
SUMMARY:Forster Vets 9 Holes
DESCRIPTION:8.30am Shot Gun Start
URL:https://forstertuncurrygolf.com.au/event/forster-vets-9-holes/
END:VEVENT
BEGIN:VEVENT
DTSTART;TZID=Australia/Sydney:20250406T070400
DTEND;TZID=Australia/Sydney:20250406T150400
DTSTAMP:20260421T034525
CREATED:20250508T043956Z
LAST-MODIFIED:20250508T043956Z
UID:5299-1743923040-1743951840@forstertuncurrygolf.com.au
SUMMARY:Forster  Medley 2BBB Stableford Optional Singles
DESCRIPTION:Daylight Savings Ends – Men;s White Tees/Women’s Green Tees
URL:https://forstertuncurrygolf.com.au/event/forster-medley-2bbb-stableford-optional-singles-6/
END:VEVENT
BEGIN:VEVENT
DTSTART;TZID=Australia/Sydney:20250405T072000
DTEND;TZID=Australia/Sydney:20250405T152000
DTSTAMP:20260421T034525
CREATED:20250508T043956Z
LAST-MODIFIED:20250508T043956Z
UID:5298-1743837600-1743866400@forstertuncurrygolf.com.au
SUMMARY:Forster Monthly Medal Stroke
DESCRIPTION:Blue Tees
URL:https://forstertuncurrygolf.com.au/event/forster-monthly-medal-stroke-3/
END:VEVENT
BEGIN:VEVENT
DTSTART;TZID=Australia/Sydney:20250404T072000
DTEND;TZID=Australia/Sydney:20250404T152000
DTSTAMP:20260421T034525
CREATED:20250508T043942Z
LAST-MODIFIED:20250508T043942Z
UID:5297-1743751200-1743780000@forstertuncurrygolf.com.au
SUMMARY:Forster Mens Stableford
DESCRIPTION:White Tees
URL:https://forstertuncurrygolf.com.au/event/forster-mens-stableford-24/
END:VEVENT
BEGIN:VEVENT
DTSTART;TZID=Australia/Sydney:20250403T072000
DTEND;TZID=Australia/Sydney:20250403T152000
DTSTAMP:20260421T034525
CREATED:20250508T043942Z
LAST-MODIFIED:20250508T043942Z
UID:5296-1743664800-1743693600@forstertuncurrygolf.com.au
SUMMARY:Forster Medley Single Stableford
DESCRIPTION:
URL:https://forstertuncurrygolf.com.au/event/forster-medley-single-stableford-2/
END:VEVENT
BEGIN:VEVENT
DTSTART;TZID=Australia/Sydney:20250402T072400
DTEND;TZID=Australia/Sydney:20250402T152400
DTSTAMP:20260421T034525
CREATED:20250508T043941Z
LAST-MODIFIED:20250508T043941Z
UID:5295-1743578640-1743607440@forstertuncurrygolf.com.au
SUMMARY:Forster Mens Stableford
DESCRIPTION:White Tees
URL:https://forstertuncurrygolf.com.au/event/forster-mens-stableford-23/
END:VEVENT
BEGIN:VEVENT
DTSTART;TZID=Australia/Sydney:20250401T073000
DTEND;TZID=Australia/Sydney:20250401T153000
DTSTAMP:20260421T034525
CREATED:20250508T043941Z
LAST-MODIFIED:20250508T043941Z
UID:5294-1743492600-1743521400@forstertuncurrygolf.com.au
SUMMARY:Forster Womens Stableford
DESCRIPTION:Red Tees
URL:https://forstertuncurrygolf.com.au/event/forster-womens-stableford-3/
END:VEVENT
BEGIN:VEVENT
DTSTART;TZID=Australia/Sydney:20250331T070400
DTEND;TZID=Australia/Sydney:20250331T150400
DTSTAMP:20260421T034525
CREATED:20250508T043941Z
LAST-MODIFIED:20250508T043941Z
UID:5293-1743404640-1743433440@forstertuncurrygolf.com.au
SUMMARY:Forster Social Play
DESCRIPTION:
URL:https://forstertuncurrygolf.com.au/event/forster-social-play-9/
END:VEVENT
BEGIN:VEVENT
DTSTART;TZID=Australia/Sydney:20250330T070400
DTEND;TZID=Australia/Sydney:20250330T150400
DTSTAMP:20260421T034525
CREATED:20250508T043926Z
LAST-MODIFIED:20250508T043926Z
UID:5292-1743318240-1743347040@forstertuncurrygolf.com.au
SUMMARY:Forster Medley Irish 4B Stableford + Optional Singles
DESCRIPTION:Men’s White Tees/ Women’s Green Tees NO CARTS ON COURSE
URL:https://forstertuncurrygolf.com.au/event/forster-medley-irish-4b-stableford-optional-singles/
END:VEVENT
BEGIN:VEVENT
DTSTART;TZID=Australia/Sydney:20250329T072000
DTEND;TZID=Australia/Sydney:20250329T152000
DTSTAMP:20260421T034525
CREATED:20250508T043926Z
LAST-MODIFIED:20250508T043926Z
UID:5291-1743232800-1743261600@forstertuncurrygolf.com.au
SUMMARY:Forster Mens Stableford
DESCRIPTION:Men’s White Tees
URL:https://forstertuncurrygolf.com.au/event/forster-mens-stableford-22/
END:VEVENT
BEGIN:VEVENT
DTSTART;TZID=Australia/Sydney:20250328T072000
DTEND;TZID=Australia/Sydney:20250328T152000
DTSTAMP:20260421T034525
CREATED:20250508T043926Z
LAST-MODIFIED:20250508T043926Z
UID:5290-1743146400-1743175200@forstertuncurrygolf.com.au
SUMMARY:Forster Men's Single Stableford
DESCRIPTION:Men’s White Tees
URL:https://forstertuncurrygolf.com.au/event/forster-mens-single-stableford/
END:VEVENT
BEGIN:VEVENT
DTSTART;TZID=Australia/Sydney:20250327T072000
DTEND;TZID=Australia/Sydney:20250327T152000
DTSTAMP:20260421T034525
CREATED:20250508T043926Z
LAST-MODIFIED:20250508T043926Z
UID:5289-1743060000-1743088800@forstertuncurrygolf.com.au
SUMMARY:Forster Medley Stableford
DESCRIPTION:Men’s White Tees/Women’s Green Tees
URL:https://forstertuncurrygolf.com.au/event/forster-medley-stableford-9/
END:VEVENT
BEGIN:VEVENT
DTSTART;TZID=Australia/Sydney:20250325T073000
DTEND;TZID=Australia/Sydney:20250325T153000
DTSTAMP:20260421T034525
CREATED:20250508T043912Z
LAST-MODIFIED:20250508T043912Z
UID:5288-1742887800-1742916600@forstertuncurrygolf.com.au
SUMMARY:Forster Womens Stableford
DESCRIPTION:Women’s Red Tees
URL:https://forstertuncurrygolf.com.au/event/forster-womens-stableford-2/
END:VEVENT
BEGIN:VEVENT
DTSTART;TZID=Australia/Sydney:20250324T083000
DTEND;TZID=Australia/Sydney:20250324T163000
DTSTAMP:20260421T034525
CREATED:20250508T043912Z
LAST-MODIFIED:20250508T043912Z
UID:5287-1742805000-1742833800@forstertuncurrygolf.com.au
SUMMARY:Forster Mens Vets 9 holes - 75mm of Rain - No Carts
DESCRIPTION:AGM after game
URL:https://forstertuncurrygolf.com.au/event/forster-mens-vets-9-holes-75mm-of-rain-no-carts/
END:VEVENT
BEGIN:VEVENT
DTSTART;TZID=Australia/Sydney:20250323T070400
DTEND;TZID=Australia/Sydney:20250323T150400
DTSTAMP:20260421T034525
CREATED:20250508T043911Z
LAST-MODIFIED:20250508T043911Z
UID:5286-1742713440-1742742240@forstertuncurrygolf.com.au
SUMMARY:Forster Medley 2BBB Stableford + Optional Singles
DESCRIPTION:Men’s White Tees/ Women’s Green Tees
URL:https://forstertuncurrygolf.com.au/event/forster-medley-2bbb-stableford-optional-singles-5/
END:VEVENT
BEGIN:VEVENT
DTSTART;TZID=Australia/Sydney:20250322T072000
DTEND;TZID=Australia/Sydney:20250322T152000
DTSTAMP:20260421T034525
CREATED:20250508T043911Z
LAST-MODIFIED:20250508T043911Z
UID:5285-1742628000-1742656800@forstertuncurrygolf.com.au
SUMMARY:Forster Mens 4BBB Stableford + Singles in conjunction
DESCRIPTION:Men’s Blue Tees
URL:https://forstertuncurrygolf.com.au/event/forster-mens-4bbb-stableford-singles-in-conjunction/
END:VEVENT
BEGIN:VEVENT
DTSTART;TZID=Australia/Sydney:20250321T072000
DTEND;TZID=Australia/Sydney:20250321T152000
DTSTAMP:20260421T034525
CREATED:20250508T043911Z
LAST-MODIFIED:20250508T043911Z
UID:5284-1742541600-1742570400@forstertuncurrygolf.com.au
SUMMARY:Forster Mens Par
DESCRIPTION:Men’s White Tees
URL:https://forstertuncurrygolf.com.au/event/forster-mens-par-4/
END:VEVENT
BEGIN:VEVENT
DTSTART;TZID=Australia/Sydney:20250320T072000
DTEND;TZID=Australia/Sydney:20250320T152000
DTSTAMP:20260421T034525
CREATED:20250508T043857Z
LAST-MODIFIED:20250508T043857Z
UID:5283-1742455200-1742484000@forstertuncurrygolf.com.au
SUMMARY:Thursday Medley Single Stableford
DESCRIPTION:Men’s White Tees / Women’s Green Tees
URL:https://forstertuncurrygolf.com.au/event/thursday-medley-single-stableford/
END:VEVENT
BEGIN:VEVENT
DTSTART;TZID=Australia/Sydney:20250319T072400
DTEND;TZID=Australia/Sydney:20250319T152400
DTSTAMP:20260421T034525
CREATED:20250508T043857Z
LAST-MODIFIED:20250508T043857Z
UID:5282-1742369040-1742397840@forstertuncurrygolf.com.au
SUMMARY:Forster Mens Stableford
DESCRIPTION:Men’s Blue Tees
URL:https://forstertuncurrygolf.com.au/event/forster-mens-stableford-21/
END:VEVENT
BEGIN:VEVENT
DTSTART;TZID=Australia/Sydney:20250317T083000
DTEND;TZID=Australia/Sydney:20250317T163000
DTSTAMP:20260421T034525
CREATED:20250508T043856Z
LAST-MODIFIED:20250508T043856Z
UID:5281-1742200200-1742229000@forstertuncurrygolf.com.au
SUMMARY:Forster Mens Vets 9 Hole Stab
DESCRIPTION:8.30 shotgun
URL:https://forstertuncurrygolf.com.au/event/forster-mens-vets-9-hole-stab-5/
END:VEVENT
BEGIN:VEVENT
DTSTART;TZID=Australia/Sydney:20250316T070400
DTEND;TZID=Australia/Sydney:20250316T150400
DTSTAMP:20260421T034525
CREATED:20250508T043856Z
LAST-MODIFIED:20250508T043856Z
UID:5280-1742108640-1742137440@forstertuncurrygolf.com.au
SUMMARY:Forster 2BBB Stableford + Optional Single Stableford
DESCRIPTION:Men’s White Tees/ Women’s Green Tees
URL:https://forstertuncurrygolf.com.au/event/forster-2bbb-stableford-optional-single-stableford/
END:VEVENT
BEGIN:VEVENT
DTSTART;TZID=Australia/Sydney:20250315T072000
DTEND;TZID=Australia/Sydney:20250315T152000
DTSTAMP:20260421T034525
CREATED:20250508T043842Z
LAST-MODIFIED:20250508T043842Z
UID:5279-1742023200-1742052000@forstertuncurrygolf.com.au
SUMMARY:Forster Mens Stableford
DESCRIPTION:Men’s Blue Tees
URL:https://forstertuncurrygolf.com.au/event/forster-mens-stableford-20/
END:VEVENT
BEGIN:VEVENT
DTSTART;TZID=Australia/Sydney:20250314T072000
DTEND;TZID=Australia/Sydney:20250314T152000
DTSTAMP:20260421T034525
CREATED:20250508T043841Z
LAST-MODIFIED:20250508T043841Z
UID:5278-1741936800-1741965600@forstertuncurrygolf.com.au
SUMMARY:Forster Mens Stableford
DESCRIPTION:Men’s White Tees
URL:https://forstertuncurrygolf.com.au/event/forster-mens-stableford-19/
END:VEVENT
BEGIN:VEVENT
DTSTART;TZID=Australia/Sydney:20250313T072000
DTEND;TZID=Australia/Sydney:20250313T152000
DTSTAMP:20260421T034525
CREATED:20250508T043841Z
LAST-MODIFIED:20250508T043841Z
UID:5277-1741850400-1741879200@forstertuncurrygolf.com.au
SUMMARY:Forster Medley Stableford
DESCRIPTION:Men’s White Tees/ Women’s Green Tees
URL:https://forstertuncurrygolf.com.au/event/forster-medley-stableford-8/
END:VEVENT
BEGIN:VEVENT
DTSTART;TZID=Australia/Sydney:20250311T073000
DTEND;TZID=Australia/Sydney:20250311T153000
DTSTAMP:20260421T034525
CREATED:20250508T043841Z
LAST-MODIFIED:20250508T043841Z
UID:5276-1741678200-1741707000@forstertuncurrygolf.com.au
SUMMARY:Forster Womens Stroke. Club Medal + Putting
DESCRIPTION:March Medal. 1st Round Golf NSW Medal – Women’s Red Tees
URL:https://forstertuncurrygolf.com.au/event/forster-womens-stroke-club-medal-putting/
END:VEVENT
BEGIN:VEVENT
DTSTART;TZID=Australia/Sydney:20250310T070400
DTEND;TZID=Australia/Sydney:20250310T150400
DTSTAMP:20260421T034525
CREATED:20250508T043827Z
LAST-MODIFIED:20250508T043827Z
UID:5275-1741590240-1741619040@forstertuncurrygolf.com.au
SUMMARY:Forster Social Play
DESCRIPTION:
URL:https://forstertuncurrygolf.com.au/event/forster-social-play-8/
END:VEVENT
END:VCALENDAR