BEGIN:VCALENDAR
VERSION:2.0
PRODID:-//Forster Tuncurry Golf Club - ECPv6.15.20//NONSGML v1.0//EN
CALSCALE:GREGORIAN
METHOD:PUBLISH
X-ORIGINAL-URL:https://forstertuncurrygolf.com.au
X-WR-CALDESC:Events for Forster Tuncurry Golf Club
REFRESH-INTERVAL;VALUE=DURATION:PT1H
X-Robots-Tag:noindex
X-PUBLISHED-TTL:PT1H
BEGIN:VTIMEZONE
TZID:Australia/Sydney
BEGIN:STANDARD
TZOFFSETFROM:+1100
TZOFFSETTO:+1000
TZNAME:AEST
DTSTART:20240406T160000
END:STANDARD
BEGIN:DAYLIGHT
TZOFFSETFROM:+1000
TZOFFSETTO:+1100
TZNAME:AEDT
DTSTART:20241005T160000
END:DAYLIGHT
BEGIN:STANDARD
TZOFFSETFROM:+1100
TZOFFSETTO:+1000
TZNAME:AEST
DTSTART:20250405T160000
END:STANDARD
BEGIN:DAYLIGHT
TZOFFSETFROM:+1000
TZOFFSETTO:+1100
TZNAME:AEDT
DTSTART:20251004T160000
END:DAYLIGHT
BEGIN:STANDARD
TZOFFSETFROM:+1100
TZOFFSETTO:+1000
TZNAME:AEST
DTSTART:20260404T160000
END:STANDARD
BEGIN:DAYLIGHT
TZOFFSETFROM:+1000
TZOFFSETTO:+1100
TZNAME:AEDT
DTSTART:20261003T160000
END:DAYLIGHT
END:VTIMEZONE
BEGIN:VEVENT
DTSTART;TZID=Australia/Sydney:20250619T072000
DTEND;TZID=Australia/Sydney:20250619T152000
DTSTAMP:20260420T184811
CREATED:20250508T044342Z
LAST-MODIFIED:20250508T044342Z
UID:5374-1750317600-1750346400@forstertuncurrygolf.com.au
SUMMARY:Forster Medley Stableford
DESCRIPTION:
URL:https://forstertuncurrygolf.com.au/event/forster-medley-stableford-18/
END:VEVENT
BEGIN:VEVENT
DTSTART;TZID=Australia/Sydney:20250618T072400
DTEND;TZID=Australia/Sydney:20250618T152400
DTSTAMP:20260420T184811
CREATED:20250508T044341Z
LAST-MODIFIED:20250508T044341Z
UID:5373-1750231440-1750260240@forstertuncurrygolf.com.au
SUMMARY:Forster Mens Stableford
DESCRIPTION:
URL:https://forstertuncurrygolf.com.au/event/forster-mens-stableford-45/
END:VEVENT
BEGIN:VEVENT
DTSTART;TZID=Australia/Sydney:20250617T073400
DTEND;TZID=Australia/Sydney:20250617T153400
DTSTAMP:20260420T184811
CREATED:20250508T044341Z
LAST-MODIFIED:20250508T044341Z
UID:5372-1750145640-1750174440@forstertuncurrygolf.com.au
SUMMARY:Forster Womens 2P Ambrose (Partner Event)
DESCRIPTION:Red Tees
URL:https://forstertuncurrygolf.com.au/event/forster-womens-2p-ambrose-partner-event/
END:VEVENT
BEGIN:VEVENT
DTSTART;TZID=Australia/Sydney:20250616T070400
DTEND;TZID=Australia/Sydney:20250616T150400
DTSTAMP:20260420T184811
CREATED:20250508T044327Z
LAST-MODIFIED:20250508T044327Z
UID:5371-1750057440-1750086240@forstertuncurrygolf.com.au
SUMMARY:Forster Social Play
DESCRIPTION:
URL:https://forstertuncurrygolf.com.au/event/forster-social-play-17/
END:VEVENT
BEGIN:VEVENT
DTSTART;TZID=Australia/Sydney:20250615T070400
DTEND;TZID=Australia/Sydney:20250615T150400
DTSTAMP:20260420T184811
CREATED:20250508T044327Z
LAST-MODIFIED:20250508T044327Z
UID:5370-1749971040-1749999840@forstertuncurrygolf.com.au
SUMMARY:Forster Medley 2BBB Stableford + Optional Singles
DESCRIPTION:
URL:https://forstertuncurrygolf.com.au/event/forster-medley-2bbb-stableford-optional-singles-8/
END:VEVENT
BEGIN:VEVENT
DTSTART;TZID=Australia/Sydney:20250614T072000
DTEND;TZID=Australia/Sydney:20250614T152000
DTSTAMP:20260420T184811
CREATED:20250508T044327Z
LAST-MODIFIED:20250508T044327Z
UID:5369-1749885600-1749914400@forstertuncurrygolf.com.au
SUMMARY:Forster Mens Stableford
DESCRIPTION:
URL:https://forstertuncurrygolf.com.au/event/forster-mens-stableford-44/
END:VEVENT
BEGIN:VEVENT
DTSTART;TZID=Australia/Sydney:20250613T072000
DTEND;TZID=Australia/Sydney:20250613T152000
DTSTAMP:20260420T184811
CREATED:20250508T044327Z
LAST-MODIFIED:20250508T044327Z
UID:5368-1749799200-1749828000@forstertuncurrygolf.com.au
SUMMARY:Forster Mens Stableford
DESCRIPTION:
URL:https://forstertuncurrygolf.com.au/event/forster-mens-stableford-43/
END:VEVENT
BEGIN:VEVENT
DTSTART;TZID=Australia/Sydney:20250612T072000
DTEND;TZID=Australia/Sydney:20250612T152000
DTSTAMP:20260420T184811
CREATED:20250508T044326Z
LAST-MODIFIED:20250508T044326Z
UID:5367-1749712800-1749741600@forstertuncurrygolf.com.au
SUMMARY:Forster Medley Stableford
DESCRIPTION:
URL:https://forstertuncurrygolf.com.au/event/forster-medley-stableford-17/
END:VEVENT
BEGIN:VEVENT
DTSTART;TZID=Australia/Sydney:20250611T072400
DTEND;TZID=Australia/Sydney:20250611T152400
DTSTAMP:20260420T184811
CREATED:20250508T044312Z
LAST-MODIFIED:20250508T044312Z
UID:5366-1749626640-1749655440@forstertuncurrygolf.com.au
SUMMARY:Forster Mens Stableford
DESCRIPTION:
URL:https://forstertuncurrygolf.com.au/event/forster-mens-stableford-42/
END:VEVENT
BEGIN:VEVENT
DTSTART;TZID=Australia/Sydney:20250610T073400
DTEND;TZID=Australia/Sydney:20250610T153400
DTSTAMP:20260420T184811
CREATED:20250508T044312Z
LAST-MODIFIED:20250508T044312Z
UID:5365-1749540840-1749569640@forstertuncurrygolf.com.au
SUMMARY:Forster Womens Stroke. Club Medal + Putting
DESCRIPTION:4th Rnd Golf NSW Womens Medal.
URL:https://forstertuncurrygolf.com.au/event/forster-womens-stroke-club-medal-putting-4/
END:VEVENT
BEGIN:VEVENT
DTSTART;TZID=Australia/Sydney:20250609T073000
DTEND;TZID=Australia/Sydney:20250609T153000
DTSTAMP:20260420T184811
CREATED:20250508T044311Z
LAST-MODIFIED:20250508T044311Z
UID:5364-1749454200-1749483000@forstertuncurrygolf.com.au
SUMMARY:Forster Mens Vets 9 Hole Stab
DESCRIPTION:Kings Birthday Weekend
URL:https://forstertuncurrygolf.com.au/event/forster-mens-vets-9-hole-stab-7/
END:VEVENT
BEGIN:VEVENT
DTSTART;TZID=Australia/Sydney:20250608T070400
DTEND;TZID=Australia/Sydney:20250608T150400
DTSTAMP:20260420T184811
CREATED:20250508T044311Z
LAST-MODIFIED:20250508T044311Z
UID:5363-1749366240-1749395040@forstertuncurrygolf.com.au
SUMMARY:Forster Social Play
DESCRIPTION:Kings Birthday Weekend
URL:https://forstertuncurrygolf.com.au/event/forster-social-play-16/
END:VEVENT
BEGIN:VEVENT
DTSTART;TZID=Australia/Sydney:20250607T072000
DTEND;TZID=Australia/Sydney:20250607T152000
DTSTAMP:20260420T184811
CREATED:20250508T044311Z
LAST-MODIFIED:20250508T044311Z
UID:5362-1749280800-1749309600@forstertuncurrygolf.com.au
SUMMARY:Forster Men's Monthly Medal/Stroke
DESCRIPTION:Kings Birthday Weekend
URL:https://forstertuncurrygolf.com.au/event/forster-mens-monthly-medal-stroke/
END:VEVENT
BEGIN:VEVENT
DTSTART;TZID=Australia/Sydney:20250606T072000
DTEND;TZID=Australia/Sydney:20250606T152000
DTSTAMP:20260420T184811
CREATED:20250508T044257Z
LAST-MODIFIED:20250508T044257Z
UID:5361-1749194400-1749223200@forstertuncurrygolf.com.au
SUMMARY:Forster Men’s Stableford
DESCRIPTION:
URL:https://forstertuncurrygolf.com.au/event/forster-mens-stableford-41/
END:VEVENT
BEGIN:VEVENT
DTSTART;TZID=Australia/Sydney:20250605T072000
DTEND;TZID=Australia/Sydney:20250605T152000
DTSTAMP:20260420T184811
CREATED:20250508T044257Z
LAST-MODIFIED:20250508T044257Z
UID:5360-1749108000-1749136800@forstertuncurrygolf.com.au
SUMMARY:Forster Medley Stableford
DESCRIPTION:
URL:https://forstertuncurrygolf.com.au/event/forster-medley-stableford-16/
END:VEVENT
BEGIN:VEVENT
DTSTART;TZID=Australia/Sydney:20250604T072400
DTEND;TZID=Australia/Sydney:20250604T152400
DTSTAMP:20260420T184811
CREATED:20250508T044257Z
LAST-MODIFIED:20250508T044257Z
UID:5359-1749021840-1749050640@forstertuncurrygolf.com.au
SUMMARY:Forster Mens Par
DESCRIPTION:
URL:https://forstertuncurrygolf.com.au/event/forster-mens-par-7/
END:VEVENT
BEGIN:VEVENT
DTSTART;TZID=Australia/Sydney:20250603T073400
DTEND;TZID=Australia/Sydney:20250603T153400
DTSTAMP:20260420T184811
CREATED:20250508T044256Z
LAST-MODIFIED:20250508T044256Z
UID:5358-1748936040-1748964840@forstertuncurrygolf.com.au
SUMMARY:Forster Women’s Stableford
DESCRIPTION:Red Tees
URL:https://forstertuncurrygolf.com.au/event/forster-womens-stableford-5/
END:VEVENT
BEGIN:VEVENT
DTSTART;TZID=Australia/Sydney:20250602T073000
DTEND;TZID=Australia/Sydney:20250602T153000
DTSTAMP:20260420T184811
CREATED:20250508T044256Z
LAST-MODIFIED:20250508T044256Z
UID:5357-1748849400-1748878200@forstertuncurrygolf.com.au
SUMMARY:Forster Men Vets 9 holes
DESCRIPTION:
URL:https://forstertuncurrygolf.com.au/event/forster-men-vets-9-holes/
END:VEVENT
BEGIN:VEVENT
DTSTART;TZID=Australia/Sydney:20250601T070400
DTEND;TZID=Australia/Sydney:20250601T150400
DTSTAMP:20260420T184811
CREATED:20250508T044242Z
LAST-MODIFIED:20250508T044242Z
UID:5356-1748761440-1748790240@forstertuncurrygolf.com.au
SUMMARY:Forster Medley 2 Person Split 6 s + Optional Singles
DESCRIPTION:
URL:https://forstertuncurrygolf.com.au/event/forster-medley-2-person-split-6-s-optional-singles-2/
END:VEVENT
BEGIN:VEVENT
DTSTART;TZID=Australia/Sydney:20250531T072000
DTEND;TZID=Australia/Sydney:20250531T152000
DTSTAMP:20260420T184811
CREATED:20250508T044242Z
LAST-MODIFIED:20250508T044242Z
UID:5355-1748676000-1748704800@forstertuncurrygolf.com.au
SUMMARY:Forster Men's Stableford
DESCRIPTION:White Tees
URL:https://forstertuncurrygolf.com.au/event/forster-mens-stableford-40/
END:VEVENT
BEGIN:VEVENT
DTSTART;TZID=Australia/Sydney:20250530T072000
DTEND;TZID=Australia/Sydney:20250530T152000
DTSTAMP:20260420T184811
CREATED:20250508T044242Z
LAST-MODIFIED:20250508T044242Z
UID:5354-1748589600-1748618400@forstertuncurrygolf.com.au
SUMMARY:Forster Mens Par
DESCRIPTION:White Tees
URL:https://forstertuncurrygolf.com.au/event/forster-mens-par-6/
END:VEVENT
BEGIN:VEVENT
DTSTART;TZID=Australia/Sydney:20250529T072000
DTEND;TZID=Australia/Sydney:20250529T152000
DTSTAMP:20260420T184811
CREATED:20250508T044242Z
LAST-MODIFIED:20250508T044242Z
UID:5353-1748503200-1748532000@forstertuncurrygolf.com.au
SUMMARY:Forster Medley Stableford
DESCRIPTION:White & Green Tees
URL:https://forstertuncurrygolf.com.au/event/forster-medley-stableford-15/
END:VEVENT
BEGIN:VEVENT
DTSTART;TZID=Australia/Sydney:20250528T072400
DTEND;TZID=Australia/Sydney:20250528T152400
DTSTAMP:20260420T184811
CREATED:20250508T044241Z
LAST-MODIFIED:20250508T044241Z
UID:5352-1748417040-1748445840@forstertuncurrygolf.com.au
SUMMARY:Forster Mens 4 man Ambrose
DESCRIPTION:White Tees
URL:https://forstertuncurrygolf.com.au/event/forster-mens-4-man-ambrose/
END:VEVENT
BEGIN:VEVENT
DTSTART;TZID=Australia/Sydney:20250527T073400
DTEND;TZID=Australia/Sydney:20250527T153400
DTSTAMP:20260420T184811
CREATED:20250508T044227Z
LAST-MODIFIED:20250508T044227Z
UID:5351-1748331240-1748360040@forstertuncurrygolf.com.au
SUMMARY:Forster Womens Single Stableford
DESCRIPTION:Red Tees
URL:https://forstertuncurrygolf.com.au/event/forster-womens-single-stableford-3/
END:VEVENT
BEGIN:VEVENT
DTSTART;TZID=Australia/Sydney:20250526T070400
DTEND;TZID=Australia/Sydney:20250526T150400
DTSTAMP:20260420T184811
CREATED:20250508T044227Z
LAST-MODIFIED:20250508T044227Z
UID:5350-1748243040-1748271840@forstertuncurrygolf.com.au
SUMMARY:Social Golf
DESCRIPTION:
URL:https://forstertuncurrygolf.com.au/event/social-golf/
END:VEVENT
BEGIN:VEVENT
DTSTART;TZID=Australia/Sydney:20250525T070400
DTEND;TZID=Australia/Sydney:20250525T150400
DTSTAMP:20260420T184811
CREATED:20250508T044227Z
LAST-MODIFIED:20250508T044227Z
UID:5349-1748156640-1748185440@forstertuncurrygolf.com.au
SUMMARY:Forster Social Play
DESCRIPTION:
URL:https://forstertuncurrygolf.com.au/event/forster-social-play-15/
END:VEVENT
BEGIN:VEVENT
DTSTART;TZID=Australia/Sydney:20250524T072000
DTEND;TZID=Australia/Sydney:20250524T152000
DTSTAMP:20260420T184811
CREATED:20250508T044226Z
LAST-MODIFIED:20250508T044226Z
UID:5348-1748071200-1748100000@forstertuncurrygolf.com.au
SUMMARY:Forster Mens Stroke/Medal
DESCRIPTION:Matchplay Championships Qualifying Blue Tees
URL:https://forstertuncurrygolf.com.au/event/forster-mens-stroke-medal/
END:VEVENT
BEGIN:VEVENT
DTSTART;TZID=Australia/Sydney:20250523T083000
DTEND;TZID=Australia/Sydney:20250523T163000
DTSTAMP:20260420T184811
CREATED:20250508T044226Z
LAST-MODIFIED:20250508T044226Z
UID:5347-1747989000-1748017800@forstertuncurrygolf.com.au
SUMMARY:Vets Week of Golf - White & Red Tees
DESCRIPTION:Shot Gun Start 8.30am 2BBB Stableford
URL:https://forstertuncurrygolf.com.au/event/vets-week-of-golf-white-red-tees/
END:VEVENT
BEGIN:VEVENT
DTSTART;TZID=Australia/Sydney:20250522T072000
DTEND;TZID=Australia/Sydney:20250522T152000
DTSTAMP:20260420T184811
CREATED:20250508T044216Z
LAST-MODIFIED:20250508T044216Z
UID:5346-1747898400-1747927200@forstertuncurrygolf.com.au
SUMMARY:Forster Medley Par
DESCRIPTION:White & Green Tees
URL:https://forstertuncurrygolf.com.au/event/forster-medley-par-2/
END:VEVENT
BEGIN:VEVENT
DTSTART;TZID=Australia/Sydney:20250521T072400
DTEND;TZID=Australia/Sydney:20250521T152400
DTSTAMP:20260420T184811
CREATED:20250508T044216Z
LAST-MODIFIED:20250508T044216Z
UID:5345-1747812240-1747841040@forstertuncurrygolf.com.au
SUMMARY:Forster Mens Stableford
DESCRIPTION:Blue Tees
URL:https://forstertuncurrygolf.com.au/event/forster-mens-stableford-39/
END:VEVENT
END:VCALENDAR