BEGIN:VCALENDAR
VERSION:2.0
PRODID:-//Forster Tuncurry Golf Club - ECPv6.15.20//NONSGML v1.0//EN
CALSCALE:GREGORIAN
METHOD:PUBLISH
X-WR-CALNAME:Forster Tuncurry Golf Club
X-ORIGINAL-URL:https://forstertuncurrygolf.com.au
X-WR-CALDESC:Events for Forster Tuncurry Golf Club
REFRESH-INTERVAL;VALUE=DURATION:PT1H
X-Robots-Tag:noindex
X-PUBLISHED-TTL:PT1H
BEGIN:VTIMEZONE
TZID:Australia/Sydney
BEGIN:STANDARD
TZOFFSETFROM:+1100
TZOFFSETTO:+1000
TZNAME:AEST
DTSTART:20240406T160000
END:STANDARD
BEGIN:DAYLIGHT
TZOFFSETFROM:+1000
TZOFFSETTO:+1100
TZNAME:AEDT
DTSTART:20241005T160000
END:DAYLIGHT
BEGIN:STANDARD
TZOFFSETFROM:+1100
TZOFFSETTO:+1000
TZNAME:AEST
DTSTART:20250405T160000
END:STANDARD
BEGIN:DAYLIGHT
TZOFFSETFROM:+1000
TZOFFSETTO:+1100
TZNAME:AEDT
DTSTART:20251004T160000
END:DAYLIGHT
BEGIN:STANDARD
TZOFFSETFROM:+1100
TZOFFSETTO:+1000
TZNAME:AEST
DTSTART:20260404T160000
END:STANDARD
BEGIN:DAYLIGHT
TZOFFSETFROM:+1000
TZOFFSETTO:+1100
TZNAME:AEDT
DTSTART:20261003T160000
END:DAYLIGHT
END:VTIMEZONE
BEGIN:VEVENT
DTSTART;TZID=Australia/Sydney:20250713T070400
DTEND;TZID=Australia/Sydney:20250713T150400
DTSTAMP:20260420T150342
CREATED:20250508T044457Z
LAST-MODIFIED:20250508T044457Z
UID:5398-1752390240-1752419040@forstertuncurrygolf.com.au
SUMMARY:Forster Medley 2BBB Stableford + Optional Singles
DESCRIPTION:
URL:https://forstertuncurrygolf.com.au/event/forster-medley-2bbb-stableford-optional-singles-11/
END:VEVENT
BEGIN:VEVENT
DTSTART;TZID=Australia/Sydney:20250712T072000
DTEND;TZID=Australia/Sydney:20250712T152000
DTSTAMP:20260420T150342
CREATED:20250508T044456Z
LAST-MODIFIED:20250508T044456Z
UID:5397-1752304800-1752333600@forstertuncurrygolf.com.au
SUMMARY:Forster Mens Stableford
DESCRIPTION:
URL:https://forstertuncurrygolf.com.au/event/forster-mens-stableford-53/
END:VEVENT
BEGIN:VEVENT
DTSTART;TZID=Australia/Sydney:20250711T072000
DTEND;TZID=Australia/Sydney:20250711T152000
DTSTAMP:20260420T150342
CREATED:20250508T044442Z
LAST-MODIFIED:20250508T044442Z
UID:5396-1752218400-1752247200@forstertuncurrygolf.com.au
SUMMARY:Forster Mens Stableford
DESCRIPTION:
URL:https://forstertuncurrygolf.com.au/event/forster-mens-stableford-52/
END:VEVENT
BEGIN:VEVENT
DTSTART;TZID=Australia/Sydney:20250710T072000
DTEND;TZID=Australia/Sydney:20250710T152000
DTSTAMP:20260420T150342
CREATED:20250508T044442Z
LAST-MODIFIED:20250508T044442Z
UID:5395-1752132000-1752160800@forstertuncurrygolf.com.au
SUMMARY:Forster Medley Stableford
DESCRIPTION:
URL:https://forstertuncurrygolf.com.au/event/forster-medley-stableford-21/
END:VEVENT
BEGIN:VEVENT
DTSTART;TZID=Australia/Sydney:20250709T072400
DTEND;TZID=Australia/Sydney:20250709T152400
DTSTAMP:20260420T150342
CREATED:20250508T044442Z
LAST-MODIFIED:20250508T044442Z
UID:5394-1752045840-1752074640@forstertuncurrygolf.com.au
SUMMARY:Forster Mens Stableford
DESCRIPTION:
URL:https://forstertuncurrygolf.com.au/event/forster-mens-stableford-51/
END:VEVENT
BEGIN:VEVENT
DTSTART;TZID=Australia/Sydney:20250708T073400
DTEND;TZID=Australia/Sydney:20250708T153400
DTSTAMP:20260420T150342
CREATED:20250508T044441Z
LAST-MODIFIED:20250508T044441Z
UID:5393-1751960040-1751988840@forstertuncurrygolf.com.au
SUMMARY:Forster Womens Stroke. Club Medal + Putting
DESCRIPTION:5th Rnd Golf NSW Womens Medal
URL:https://forstertuncurrygolf.com.au/event/forster-womens-stroke-club-medal-putting-5/
END:VEVENT
BEGIN:VEVENT
DTSTART;TZID=Australia/Sydney:20250707T100000
DTEND;TZID=Australia/Sydney:20250707T180000
DTSTAMP:20260420T150342
CREATED:20250508T044441Z
LAST-MODIFIED:20250508T044441Z
UID:5392-1751882400-1751911200@forstertuncurrygolf.com.au
SUMMARY:Forster Mens Vets Christmas in July
DESCRIPTION:9.30am for 10am Shot Gun Start
URL:https://forstertuncurrygolf.com.au/event/forster-mens-vets-christmas-in-july/
END:VEVENT
BEGIN:VEVENT
DTSTART;TZID=Australia/Sydney:20250706T070400
DTEND;TZID=Australia/Sydney:20250706T150400
DTSTAMP:20260420T150342
CREATED:20250508T044427Z
LAST-MODIFIED:20250508T044427Z
UID:5391-1751785440-1751814240@forstertuncurrygolf.com.au
SUMMARY:Forster Social Play
DESCRIPTION:
URL:https://forstertuncurrygolf.com.au/event/forster-social-play-19/
END:VEVENT
BEGIN:VEVENT
DTSTART;TZID=Australia/Sydney:20250705T072000
DTEND;TZID=Australia/Sydney:20250705T152000
DTSTAMP:20260420T150342
CREATED:20250508T044427Z
LAST-MODIFIED:20250508T044427Z
UID:5390-1751700000-1751728800@forstertuncurrygolf.com.au
SUMMARY:Forster Mens Monthly Medal Stroke
DESCRIPTION:
URL:https://forstertuncurrygolf.com.au/event/forster-mens-monthly-medal-stroke-2/
END:VEVENT
BEGIN:VEVENT
DTSTART;TZID=Australia/Sydney:20250704T072000
DTEND;TZID=Australia/Sydney:20250704T152000
DTSTAMP:20260420T150342
CREATED:20250508T044427Z
LAST-MODIFIED:20250508T044427Z
UID:5389-1751613600-1751642400@forstertuncurrygolf.com.au
SUMMARY:Forster Mens Stableford
DESCRIPTION:
URL:https://forstertuncurrygolf.com.au/event/forster-mens-stableford-50/
END:VEVENT
BEGIN:VEVENT
DTSTART;TZID=Australia/Sydney:20250703T072000
DTEND;TZID=Australia/Sydney:20250703T152000
DTSTAMP:20260420T150342
CREATED:20250508T044426Z
LAST-MODIFIED:20250508T044426Z
UID:5388-1751527200-1751556000@forstertuncurrygolf.com.au
SUMMARY:Forster Medley Stableford
DESCRIPTION:
URL:https://forstertuncurrygolf.com.au/event/forster-medley-stableford-20/
END:VEVENT
BEGIN:VEVENT
DTSTART;TZID=Australia/Sydney:20250702T072400
DTEND;TZID=Australia/Sydney:20250702T152400
DTSTAMP:20260420T150342
CREATED:20250508T044426Z
LAST-MODIFIED:20250508T044426Z
UID:5387-1751441040-1751469840@forstertuncurrygolf.com.au
SUMMARY:Forster Mens Stableford
DESCRIPTION:
URL:https://forstertuncurrygolf.com.au/event/forster-mens-stableford-49/
END:VEVENT
BEGIN:VEVENT
DTSTART;TZID=Australia/Sydney:20250701T073400
DTEND;TZID=Australia/Sydney:20250701T153400
DTSTAMP:20260420T150342
CREATED:20250508T044412Z
LAST-MODIFIED:20250508T044412Z
UID:5386-1751355240-1751384040@forstertuncurrygolf.com.au
SUMMARY:Forster Womens Random Draw 4BBB Stableford
DESCRIPTION:
URL:https://forstertuncurrygolf.com.au/event/forster-womens-random-draw-4bbb-stableford/
END:VEVENT
BEGIN:VEVENT
DTSTART;TZID=Australia/Sydney:20250630T070400
DTEND;TZID=Australia/Sydney:20250630T150400
DTSTAMP:20260420T150342
CREATED:20250508T044412Z
LAST-MODIFIED:20250508T044412Z
UID:5385-1751267040-1751295840@forstertuncurrygolf.com.au
SUMMARY:Forster Social Play
DESCRIPTION:
URL:https://forstertuncurrygolf.com.au/event/forster-social-play-18/
END:VEVENT
BEGIN:VEVENT
DTSTART;TZID=Australia/Sydney:20250629T070400
DTEND;TZID=Australia/Sydney:20250629T150400
DTSTAMP:20260420T150342
CREATED:20250508T044412Z
LAST-MODIFIED:20250508T044412Z
UID:5384-1751180640-1751209440@forstertuncurrygolf.com.au
SUMMARY:Forster Medley 2BBB Stableford + Optional Singles
DESCRIPTION:
URL:https://forstertuncurrygolf.com.au/event/forster-medley-2bbb-stableford-optional-singles-10/
END:VEVENT
BEGIN:VEVENT
DTSTART;TZID=Australia/Sydney:20250628T072000
DTEND;TZID=Australia/Sydney:20250628T152000
DTSTAMP:20260420T150342
CREATED:20250508T044412Z
LAST-MODIFIED:20250508T044412Z
UID:5383-1751095200-1751124000@forstertuncurrygolf.com.au
SUMMARY:Forster Mens Stableford
DESCRIPTION:
URL:https://forstertuncurrygolf.com.au/event/forster-mens-stableford-48/
END:VEVENT
BEGIN:VEVENT
DTSTART;TZID=Australia/Sydney:20250627T072000
DTEND;TZID=Australia/Sydney:20250627T152000
DTSTAMP:20260420T150342
CREATED:20250508T044411Z
LAST-MODIFIED:20250508T044411Z
UID:5382-1751008800-1751037600@forstertuncurrygolf.com.au
SUMMARY:Forster Mens Stroke
DESCRIPTION:
URL:https://forstertuncurrygolf.com.au/event/forster-mens-stroke-3/
END:VEVENT
BEGIN:VEVENT
DTSTART;TZID=Australia/Sydney:20250626T072000
DTEND;TZID=Australia/Sydney:20250626T152000
DTSTAMP:20260420T150342
CREATED:20250508T044357Z
LAST-MODIFIED:20250508T044357Z
UID:5381-1750922400-1750951200@forstertuncurrygolf.com.au
SUMMARY:Forster Medley Stableford
DESCRIPTION:
URL:https://forstertuncurrygolf.com.au/event/forster-medley-stableford-19/
END:VEVENT
BEGIN:VEVENT
DTSTART;TZID=Australia/Sydney:20250625T072400
DTEND;TZID=Australia/Sydney:20250625T152400
DTSTAMP:20260420T150342
CREATED:20250508T044357Z
LAST-MODIFIED:20250508T044357Z
UID:5380-1750836240-1750865040@forstertuncurrygolf.com.au
SUMMARY:Forster Mens Stableford
DESCRIPTION:
URL:https://forstertuncurrygolf.com.au/event/forster-mens-stableford-47/
END:VEVENT
BEGIN:VEVENT
DTSTART;TZID=Australia/Sydney:20250624T073400
DTEND;TZID=Australia/Sydney:20250624T153400
DTSTAMP:20260420T150342
CREATED:20250508T044356Z
LAST-MODIFIED:20250508T044356Z
UID:5379-1750750440-1750779240@forstertuncurrygolf.com.au
SUMMARY:Forster Womens Stableford
DESCRIPTION:Red Tees
URL:https://forstertuncurrygolf.com.au/event/forster-womens-stableford-6/
END:VEVENT
BEGIN:VEVENT
DTSTART;TZID=Australia/Sydney:20250623T073000
DTEND;TZID=Australia/Sydney:20250623T153000
DTSTAMP:20260420T150342
CREATED:20250508T044356Z
LAST-MODIFIED:20250508T044356Z
UID:5378-1750663800-1750692600@forstertuncurrygolf.com.au
SUMMARY:Forster Mens Vets 9 Hole Stab
DESCRIPTION:
URL:https://forstertuncurrygolf.com.au/event/forster-mens-vets-9-hole-stab-8/
END:VEVENT
BEGIN:VEVENT
DTSTART;TZID=Australia/Sydney:20250622T070400
DTEND;TZID=Australia/Sydney:20250622T150400
DTSTAMP:20260420T150342
CREATED:20250508T044356Z
LAST-MODIFIED:20250508T044356Z
UID:5377-1750575840-1750604640@forstertuncurrygolf.com.au
SUMMARY:Forster Medley 2BBB Stableford + Optional Singles
DESCRIPTION:
URL:https://forstertuncurrygolf.com.au/event/forster-medley-2bbb-stableford-optional-singles-9/
END:VEVENT
BEGIN:VEVENT
DTSTART;TZID=Australia/Sydney:20250621T072000
DTEND;TZID=Australia/Sydney:20250621T152000
DTSTAMP:20260420T150342
CREATED:20250508T044342Z
LAST-MODIFIED:20250508T044342Z
UID:5376-1750490400-1750519200@forstertuncurrygolf.com.au
SUMMARY:Forster Mens Irish 4 Ball Stableford best 2 scores of 4)
DESCRIPTION:
URL:https://forstertuncurrygolf.com.au/event/forster-mens-irish-4-ball-stableford-best-2-scores-of-4/
END:VEVENT
BEGIN:VEVENT
DTSTART;TZID=Australia/Sydney:20250620T072000
DTEND;TZID=Australia/Sydney:20250620T152000
DTSTAMP:20260420T150342
CREATED:20250508T044342Z
LAST-MODIFIED:20250508T044342Z
UID:5375-1750404000-1750432800@forstertuncurrygolf.com.au
SUMMARY:Forster Mens Stableford
DESCRIPTION:
URL:https://forstertuncurrygolf.com.au/event/forster-mens-stableford-46/
END:VEVENT
BEGIN:VEVENT
DTSTART;TZID=Australia/Sydney:20250619T072000
DTEND;TZID=Australia/Sydney:20250619T152000
DTSTAMP:20260420T150342
CREATED:20250508T044342Z
LAST-MODIFIED:20250508T044342Z
UID:5374-1750317600-1750346400@forstertuncurrygolf.com.au
SUMMARY:Forster Medley Stableford
DESCRIPTION:
URL:https://forstertuncurrygolf.com.au/event/forster-medley-stableford-18/
END:VEVENT
BEGIN:VEVENT
DTSTART;TZID=Australia/Sydney:20250618T072400
DTEND;TZID=Australia/Sydney:20250618T152400
DTSTAMP:20260420T150342
CREATED:20250508T044341Z
LAST-MODIFIED:20250508T044341Z
UID:5373-1750231440-1750260240@forstertuncurrygolf.com.au
SUMMARY:Forster Mens Stableford
DESCRIPTION:
URL:https://forstertuncurrygolf.com.au/event/forster-mens-stableford-45/
END:VEVENT
BEGIN:VEVENT
DTSTART;TZID=Australia/Sydney:20250617T073400
DTEND;TZID=Australia/Sydney:20250617T153400
DTSTAMP:20260420T150342
CREATED:20250508T044341Z
LAST-MODIFIED:20250508T044341Z
UID:5372-1750145640-1750174440@forstertuncurrygolf.com.au
SUMMARY:Forster Womens 2P Ambrose (Partner Event)
DESCRIPTION:Red Tees
URL:https://forstertuncurrygolf.com.au/event/forster-womens-2p-ambrose-partner-event/
END:VEVENT
BEGIN:VEVENT
DTSTART;TZID=Australia/Sydney:20250616T070400
DTEND;TZID=Australia/Sydney:20250616T150400
DTSTAMP:20260420T150342
CREATED:20250508T044327Z
LAST-MODIFIED:20250508T044327Z
UID:5371-1750057440-1750086240@forstertuncurrygolf.com.au
SUMMARY:Forster Social Play
DESCRIPTION:
URL:https://forstertuncurrygolf.com.au/event/forster-social-play-17/
END:VEVENT
BEGIN:VEVENT
DTSTART;TZID=Australia/Sydney:20250615T070400
DTEND;TZID=Australia/Sydney:20250615T150400
DTSTAMP:20260420T150342
CREATED:20250508T044327Z
LAST-MODIFIED:20250508T044327Z
UID:5370-1749971040-1749999840@forstertuncurrygolf.com.au
SUMMARY:Forster Medley 2BBB Stableford + Optional Singles
DESCRIPTION:
URL:https://forstertuncurrygolf.com.au/event/forster-medley-2bbb-stableford-optional-singles-8/
END:VEVENT
BEGIN:VEVENT
DTSTART;TZID=Australia/Sydney:20250614T072000
DTEND;TZID=Australia/Sydney:20250614T152000
DTSTAMP:20260420T150342
CREATED:20250508T044327Z
LAST-MODIFIED:20250508T044327Z
UID:5369-1749885600-1749914400@forstertuncurrygolf.com.au
SUMMARY:Forster Mens Stableford
DESCRIPTION:
URL:https://forstertuncurrygolf.com.au/event/forster-mens-stableford-44/
END:VEVENT
END:VCALENDAR