BEGIN:VCALENDAR
VERSION:2.0
PRODID:-//Forster Tuncurry Golf Club - ECPv6.15.20//NONSGML v1.0//EN
CALSCALE:GREGORIAN
METHOD:PUBLISH
X-WR-CALNAME:Forster Tuncurry Golf Club
X-ORIGINAL-URL:https://forstertuncurrygolf.com.au
X-WR-CALDESC:Events for Forster Tuncurry Golf Club
REFRESH-INTERVAL;VALUE=DURATION:PT1H
X-Robots-Tag:noindex
X-PUBLISHED-TTL:PT1H
BEGIN:VTIMEZONE
TZID:Australia/Sydney
BEGIN:STANDARD
TZOFFSETFROM:+1100
TZOFFSETTO:+1000
TZNAME:AEST
DTSTART:20240406T160000
END:STANDARD
BEGIN:DAYLIGHT
TZOFFSETFROM:+1000
TZOFFSETTO:+1100
TZNAME:AEDT
DTSTART:20241005T160000
END:DAYLIGHT
BEGIN:STANDARD
TZOFFSETFROM:+1100
TZOFFSETTO:+1000
TZNAME:AEST
DTSTART:20250405T160000
END:STANDARD
BEGIN:DAYLIGHT
TZOFFSETFROM:+1000
TZOFFSETTO:+1100
TZNAME:AEDT
DTSTART:20251004T160000
END:DAYLIGHT
BEGIN:STANDARD
TZOFFSETFROM:+1100
TZOFFSETTO:+1000
TZNAME:AEST
DTSTART:20260404T160000
END:STANDARD
BEGIN:DAYLIGHT
TZOFFSETFROM:+1000
TZOFFSETTO:+1100
TZNAME:AEDT
DTSTART:20261003T160000
END:DAYLIGHT
END:VTIMEZONE
BEGIN:VEVENT
DTSTART;TZID=Australia/Sydney:20250806T072400
DTEND;TZID=Australia/Sydney:20250806T152400
DTSTAMP:20260420T113601
CREATED:20250508T044611Z
LAST-MODIFIED:20250508T044611Z
UID:5422-1754465040-1754493840@forstertuncurrygolf.com.au
SUMMARY:Forster Mens Stableford Mid Week Champs Best 3 of 4 scores
DESCRIPTION:Round 1
URL:https://forstertuncurrygolf.com.au/event/forster-mens-stableford-mid-week-champs-best-3-of-4-scores/
END:VEVENT
BEGIN:VEVENT
DTSTART;TZID=Australia/Sydney:20250805T073400
DTEND;TZID=Australia/Sydney:20250805T153400
DTSTAMP:20260420T113601
CREATED:20250508T044557Z
LAST-MODIFIED:20250508T044557Z
UID:5421-1754379240-1754408040@forstertuncurrygolf.com.au
SUMMARY:Forster Womens Stableford
DESCRIPTION:WGCNC Annual Tournament
URL:https://forstertuncurrygolf.com.au/event/forster-womens-stableford-9/
END:VEVENT
BEGIN:VEVENT
DTSTART;TZID=Australia/Sydney:20250804T083000
DTEND;TZID=Australia/Sydney:20250804T163000
DTSTAMP:20260420T113601
CREATED:20250508T044557Z
LAST-MODIFIED:20250508T044557Z
UID:5420-1754296200-1754325000@forstertuncurrygolf.com.au
SUMMARY:Forster Mens Vets 9 Holes 8.30 SGS
DESCRIPTION:
URL:https://forstertuncurrygolf.com.au/event/forster-mens-vets-9-holes-8-30-sgs/
END:VEVENT
BEGIN:VEVENT
DTSTART;TZID=Australia/Sydney:20250803T070400
DTEND;TZID=Australia/Sydney:20250803T150400
DTSTAMP:20260420T113601
CREATED:20250508T044557Z
LAST-MODIFIED:20250508T044557Z
UID:5419-1754204640-1754233440@forstertuncurrygolf.com.au
SUMMARY:Forster Medley 2BBB Stableford
DESCRIPTION:Optional Singles
URL:https://forstertuncurrygolf.com.au/event/forster-medley-2bbb-stableford/
END:VEVENT
BEGIN:VEVENT
DTSTART;TZID=Australia/Sydney:20250802T072000
DTEND;TZID=Australia/Sydney:20250802T152000
DTSTAMP:20260420T113601
CREATED:20250508T044556Z
LAST-MODIFIED:20250508T044556Z
UID:5418-1754119200-1754148000@forstertuncurrygolf.com.au
SUMMARY:Forster Mens Monthly Medal Stroke
DESCRIPTION:
URL:https://forstertuncurrygolf.com.au/event/forster-mens-monthly-medal-stroke-3/
END:VEVENT
BEGIN:VEVENT
DTSTART;TZID=Australia/Sydney:20250801T070000
DTEND;TZID=Australia/Sydney:20250801T150000
DTSTAMP:20260420T113601
CREATED:20250508T044556Z
LAST-MODIFIED:20250508T044556Z
UID:5417-1754031600-1754060400@forstertuncurrygolf.com.au
SUMMARY:Forster Mens Stableford
DESCRIPTION:
URL:https://forstertuncurrygolf.com.au/event/forster-mens-stableford-59/
END:VEVENT
BEGIN:VEVENT
DTSTART;TZID=Australia/Sydney:20250731T072000
DTEND;TZID=Australia/Sydney:20250731T152000
DTSTAMP:20260420T113601
CREATED:20250508T044543Z
LAST-MODIFIED:20250508T044543Z
UID:5416-1753946400-1753975200@forstertuncurrygolf.com.au
SUMMARY:Forster Medley Stableford
DESCRIPTION:
URL:https://forstertuncurrygolf.com.au/event/forster-medley-stableford-23/
END:VEVENT
BEGIN:VEVENT
DTSTART;TZID=Australia/Sydney:20250730T072400
DTEND;TZID=Australia/Sydney:20250730T152400
DTSTAMP:20260420T113601
CREATED:20250508T044542Z
LAST-MODIFIED:20250508T044542Z
UID:5415-1753860240-1753889040@forstertuncurrygolf.com.au
SUMMARY:Forster Mens Stableford
DESCRIPTION:
URL:https://forstertuncurrygolf.com.au/event/forster-mens-stableford-58/
END:VEVENT
BEGIN:VEVENT
DTSTART;TZID=Australia/Sydney:20250729T073400
DTEND;TZID=Australia/Sydney:20250729T153400
DTSTAMP:20260420T113601
CREATED:20250508T044542Z
LAST-MODIFIED:20250508T044542Z
UID:5414-1753774440-1753803240@forstertuncurrygolf.com.au
SUMMARY:Forster Womens 4BBB (Partner Event)
DESCRIPTION:
URL:https://forstertuncurrygolf.com.au/event/forster-womens-4bbb-partner-event/
END:VEVENT
BEGIN:VEVENT
DTSTART;TZID=Australia/Sydney:20250728T070400
DTEND;TZID=Australia/Sydney:20250728T150400
DTSTAMP:20260420T113601
CREATED:20250508T044542Z
LAST-MODIFIED:20250508T044542Z
UID:5413-1753686240-1753715040@forstertuncurrygolf.com.au
SUMMARY:Forster Social Play
DESCRIPTION:
URL:https://forstertuncurrygolf.com.au/event/forster-social-play-24/
END:VEVENT
BEGIN:VEVENT
DTSTART;TZID=Australia/Sydney:20250727T070400
DTEND;TZID=Australia/Sydney:20250727T150400
DTSTAMP:20260420T113601
CREATED:20250508T044541Z
LAST-MODIFIED:20250508T044541Z
UID:5412-1753599840-1753628640@forstertuncurrygolf.com.au
SUMMARY:Forster Social Play
DESCRIPTION:
URL:https://forstertuncurrygolf.com.au/event/forster-social-play-23/
END:VEVENT
BEGIN:VEVENT
DTSTART;TZID=Australia/Sydney:20250726T072000
DTEND;TZID=Australia/Sydney:20250726T152000
DTSTAMP:20260420T113601
CREATED:20250508T044531Z
LAST-MODIFIED:20250508T044531Z
UID:5411-1753514400-1753543200@forstertuncurrygolf.com.au
SUMMARY:Forster Mens Stableford
DESCRIPTION:
URL:https://forstertuncurrygolf.com.au/event/forster-mens-stableford-57/
END:VEVENT
BEGIN:VEVENT
DTSTART;TZID=Australia/Sydney:20250725T072000
DTEND;TZID=Australia/Sydney:20250725T152000
DTSTAMP:20260420T113601
CREATED:20250508T044530Z
LAST-MODIFIED:20250508T044530Z
UID:5410-1753428000-1753456800@forstertuncurrygolf.com.au
SUMMARY:Forster Mens Par
DESCRIPTION:
URL:https://forstertuncurrygolf.com.au/event/forster-mens-par-9/
END:VEVENT
BEGIN:VEVENT
DTSTART;TZID=Australia/Sydney:20250724T072000
DTEND;TZID=Australia/Sydney:20250724T152000
DTSTAMP:20260420T113601
CREATED:20250508T044529Z
LAST-MODIFIED:20250508T044529Z
UID:5409-1753341600-1753370400@forstertuncurrygolf.com.au
SUMMARY:Forster Medley Stableford
DESCRIPTION:
URL:https://forstertuncurrygolf.com.au/event/forster-medley-stableford-22/
END:VEVENT
BEGIN:VEVENT
DTSTART;TZID=Australia/Sydney:20250723T072400
DTEND;TZID=Australia/Sydney:20250723T152400
DTSTAMP:20260420T113601
CREATED:20250508T044528Z
LAST-MODIFIED:20250508T044528Z
UID:5408-1753255440-1753284240@forstertuncurrygolf.com.au
SUMMARY:Forster Mens Stableford
DESCRIPTION:
URL:https://forstertuncurrygolf.com.au/event/forster-mens-stableford-56/
END:VEVENT
BEGIN:VEVENT
DTSTART;TZID=Australia/Sydney:20250722T073400
DTEND;TZID=Australia/Sydney:20250722T153400
DTSTAMP:20260420T113601
CREATED:20250508T044527Z
LAST-MODIFIED:20250508T044527Z
UID:5407-1753169640-1753198440@forstertuncurrygolf.com.au
SUMMARY:Forster Womens Stableford
DESCRIPTION:
URL:https://forstertuncurrygolf.com.au/event/forster-womens-stableford-8/
END:VEVENT
BEGIN:VEVENT
DTSTART;TZID=Australia/Sydney:20250721T070400
DTEND;TZID=Australia/Sydney:20250721T150400
DTSTAMP:20260420T113601
CREATED:20250508T044520Z
LAST-MODIFIED:20250508T044520Z
UID:5406-1753081440-1753110240@forstertuncurrygolf.com.au
SUMMARY:Forster Social Play
DESCRIPTION:
URL:https://forstertuncurrygolf.com.au/event/forster-social-play-22/
END:VEVENT
BEGIN:VEVENT
DTSTART;TZID=Australia/Sydney:20250720T070400
DTEND;TZID=Australia/Sydney:20250720T150400
DTSTAMP:20260420T113601
CREATED:20250508T044519Z
LAST-MODIFIED:20250508T044519Z
UID:5405-1752995040-1753023840@forstertuncurrygolf.com.au
SUMMARY:Forster Social Play
DESCRIPTION:
URL:https://forstertuncurrygolf.com.au/event/forster-social-play-21/
END:VEVENT
BEGIN:VEVENT
DTSTART;TZID=Australia/Sydney:20250719T072000
DTEND;TZID=Australia/Sydney:20250719T152000
DTSTAMP:20260420T113601
CREATED:20250508T044518Z
LAST-MODIFIED:20250508T044518Z
UID:5404-1752909600-1752938400@forstertuncurrygolf.com.au
SUMMARY:Forster Mens Par
DESCRIPTION:
URL:https://forstertuncurrygolf.com.au/event/forster-mens-par-8/
END:VEVENT
BEGIN:VEVENT
DTSTART;TZID=Australia/Sydney:20250718T072000
DTEND;TZID=Australia/Sydney:20250718T152000
DTSTAMP:20260420T113601
CREATED:20250508T044516Z
LAST-MODIFIED:20250508T044516Z
UID:5403-1752823200-1752852000@forstertuncurrygolf.com.au
SUMMARY:Forster Mens Stableford
DESCRIPTION:
URL:https://forstertuncurrygolf.com.au/event/forster-mens-stableford-55/
END:VEVENT
BEGIN:VEVENT
DTSTART;TZID=Australia/Sydney:20250717T072000
DTEND;TZID=Australia/Sydney:20250717T152000
DTSTAMP:20260420T113601
CREATED:20250508T044513Z
LAST-MODIFIED:20250508T044513Z
UID:5402-1752736800-1752765600@forstertuncurrygolf.com.au
SUMMARY:Forster Medley Par
DESCRIPTION:
URL:https://forstertuncurrygolf.com.au/event/forster-medley-par-3/
END:VEVENT
BEGIN:VEVENT
DTSTART;TZID=Australia/Sydney:20250716T072400
DTEND;TZID=Australia/Sydney:20250716T152400
DTSTAMP:20260420T113601
CREATED:20250508T044457Z
LAST-MODIFIED:20250508T044457Z
UID:5401-1752650640-1752679440@forstertuncurrygolf.com.au
SUMMARY:Forster Mens Stableford
DESCRIPTION:
URL:https://forstertuncurrygolf.com.au/event/forster-mens-stableford-54/
END:VEVENT
BEGIN:VEVENT
DTSTART;TZID=Australia/Sydney:20250715T073400
DTEND;TZID=Australia/Sydney:20250715T153400
DTSTAMP:20260420T113601
CREATED:20250508T044457Z
LAST-MODIFIED:20250508T044457Z
UID:5400-1752564840-1752593640@forstertuncurrygolf.com.au
SUMMARY:Forster Womens Stableford
DESCRIPTION:
URL:https://forstertuncurrygolf.com.au/event/forster-womens-stableford-7/
END:VEVENT
BEGIN:VEVENT
DTSTART;TZID=Australia/Sydney:20250714T070400
DTEND;TZID=Australia/Sydney:20250714T150400
DTSTAMP:20260420T113601
CREATED:20250508T044457Z
LAST-MODIFIED:20250508T044457Z
UID:5399-1752476640-1752505440@forstertuncurrygolf.com.au
SUMMARY:Forster Social Play
DESCRIPTION:
URL:https://forstertuncurrygolf.com.au/event/forster-social-play-20/
END:VEVENT
BEGIN:VEVENT
DTSTART;TZID=Australia/Sydney:20250713T070400
DTEND;TZID=Australia/Sydney:20250713T150400
DTSTAMP:20260420T113601
CREATED:20250508T044457Z
LAST-MODIFIED:20250508T044457Z
UID:5398-1752390240-1752419040@forstertuncurrygolf.com.au
SUMMARY:Forster Medley 2BBB Stableford + Optional Singles
DESCRIPTION:
URL:https://forstertuncurrygolf.com.au/event/forster-medley-2bbb-stableford-optional-singles-11/
END:VEVENT
BEGIN:VEVENT
DTSTART;TZID=Australia/Sydney:20250712T072000
DTEND;TZID=Australia/Sydney:20250712T152000
DTSTAMP:20260420T113601
CREATED:20250508T044456Z
LAST-MODIFIED:20250508T044456Z
UID:5397-1752304800-1752333600@forstertuncurrygolf.com.au
SUMMARY:Forster Mens Stableford
DESCRIPTION:
URL:https://forstertuncurrygolf.com.au/event/forster-mens-stableford-53/
END:VEVENT
BEGIN:VEVENT
DTSTART;TZID=Australia/Sydney:20250711T072000
DTEND;TZID=Australia/Sydney:20250711T152000
DTSTAMP:20260420T113601
CREATED:20250508T044442Z
LAST-MODIFIED:20250508T044442Z
UID:5396-1752218400-1752247200@forstertuncurrygolf.com.au
SUMMARY:Forster Mens Stableford
DESCRIPTION:
URL:https://forstertuncurrygolf.com.au/event/forster-mens-stableford-52/
END:VEVENT
BEGIN:VEVENT
DTSTART;TZID=Australia/Sydney:20250710T072000
DTEND;TZID=Australia/Sydney:20250710T152000
DTSTAMP:20260420T113601
CREATED:20250508T044442Z
LAST-MODIFIED:20250508T044442Z
UID:5395-1752132000-1752160800@forstertuncurrygolf.com.au
SUMMARY:Forster Medley Stableford
DESCRIPTION:
URL:https://forstertuncurrygolf.com.au/event/forster-medley-stableford-21/
END:VEVENT
BEGIN:VEVENT
DTSTART;TZID=Australia/Sydney:20250709T072400
DTEND;TZID=Australia/Sydney:20250709T152400
DTSTAMP:20260420T113601
CREATED:20250508T044442Z
LAST-MODIFIED:20250508T044442Z
UID:5394-1752045840-1752074640@forstertuncurrygolf.com.au
SUMMARY:Forster Mens Stableford
DESCRIPTION:
URL:https://forstertuncurrygolf.com.au/event/forster-mens-stableford-51/
END:VEVENT
BEGIN:VEVENT
DTSTART;TZID=Australia/Sydney:20250708T073400
DTEND;TZID=Australia/Sydney:20250708T153400
DTSTAMP:20260420T113601
CREATED:20250508T044441Z
LAST-MODIFIED:20250508T044441Z
UID:5393-1751960040-1751988840@forstertuncurrygolf.com.au
SUMMARY:Forster Womens Stroke. Club Medal + Putting
DESCRIPTION:5th Rnd Golf NSW Womens Medal
URL:https://forstertuncurrygolf.com.au/event/forster-womens-stroke-club-medal-putting-5/
END:VEVENT
END:VCALENDAR